BEGIN:VCALENDAR
VERSION:2.0
PRODID:-//Raahen seudun Omaishoitajat ja Läheiset ry - ECPv6.15.20//NONSGML v1.0//EN
CALSCALE:GREGORIAN
METHOD:PUBLISH
X-ORIGINAL-URL:https://raahenomaishoitajat.fi
X-WR-CALDESC:Events for Raahen seudun Omaishoitajat ja Läheiset ry
REFRESH-INTERVAL;VALUE=DURATION:PT1H
X-Robots-Tag:noindex
X-PUBLISHED-TTL:PT1H
BEGIN:VTIMEZONE
TZID:Europe/Helsinki
BEGIN:DAYLIGHT
TZOFFSETFROM:+0200
TZOFFSETTO:+0300
TZNAME:EEST
DTSTART:20240331T010000
END:DAYLIGHT
BEGIN:STANDARD
TZOFFSETFROM:+0300
TZOFFSETTO:+0200
TZNAME:EET
DTSTART:20241027T010000
END:STANDARD
BEGIN:DAYLIGHT
TZOFFSETFROM:+0200
TZOFFSETTO:+0300
TZNAME:EEST
DTSTART:20250330T010000
END:DAYLIGHT
BEGIN:STANDARD
TZOFFSETFROM:+0300
TZOFFSETTO:+0200
TZNAME:EET
DTSTART:20251026T010000
END:STANDARD
BEGIN:DAYLIGHT
TZOFFSETFROM:+0200
TZOFFSETTO:+0300
TZNAME:EEST
DTSTART:20260329T010000
END:DAYLIGHT
BEGIN:STANDARD
TZOFFSETFROM:+0300
TZOFFSETTO:+0200
TZNAME:EET
DTSTART:20261025T010000
END:STANDARD
END:VTIMEZONE
BEGIN:VEVENT
DTSTART;TZID=Europe/Helsinki:20251001T100000
DTEND;TZID=Europe/Helsinki:20251001T113000
DTSTAMP:20260425T065908
CREATED:20250819T115643Z
LAST-MODIFIED:20250819T115643Z
UID:4235-1759312800-1759318200@raahenomaishoitajat.fi
SUMMARY:Omaishoidon infopiste Praatissa Raahessa
DESCRIPTION:Askarruttaako jokin omaishoitoon liittyvä asia? Kaipaatko tietoa omaishoitoperheille suunnatuista toiminnoista ja etuuksista? Vai haluatko vaihtaa ajatuksia sinulle tärkeistä asioista? \nTule juttusille Omaishoidon infopisteelle Praatiin -palvelujen olohuoneeseen ke klo 10-11.30 (Kirkkokatu 43\, Raahe)\, paikalla OmaisOivan työntekijä. Infopiste Praatissa pääsääntöisesti kuukauden 1. keskiviikko (poikkeus 12.11.). Tervetuloa!
URL:https://raahenomaishoitajat.fi/event/omaishoidon-infopiste-praatissa-raahessa-2/
LOCATION:Praati\, Kirkkokatu 43\, Raahe\, 92100\, Finland
ATTACH;FMTTYPE=image/png:https://raahenomaishoitajat.fi/content/uploads/2025/08/Praati-syksy2025.png
END:VEVENT
BEGIN:VEVENT
DTSTART;TZID=Europe/Helsinki:20251001T130000
DTEND;TZID=Europe/Helsinki:20251001T143000
DTSTAMP:20260425T065908
CREATED:20250709T103805Z
LAST-MODIFIED:20250709T103805Z
UID:4185-1759323600-1759329000@raahenomaishoitajat.fi
SUMMARY:OmaisOiva kahvila Siikajoenkylällä
DESCRIPTION:Tervetuloa yhteiseen päiväkahvitilaisuuteen Heikinhovin kylätalolle! \nKokoonnumme ke 3.9.\, 1.10.\, 12.11. ja 10.12. klo 13-14.30 (Heikintie 1\, Siikajoenkylä). \nTilaisuus on kaikille avoin riippumatta omaishoitotilanteesta. Tule mukaan vaikkapa ystäväsi tai naapurisi kanssa!
URL:https://raahenomaishoitajat.fi/event/omaisoiva-kahvila-siikajoenkylalla-2/
LOCATION:Heikinhovi\, Heikintie 1\, Siikajoki
ATTACH;FMTTYPE=image/png:https://raahenomaishoitajat.fi/content/uploads/2025/07/heikinhovisyksy2025.png
END:VEVENT
BEGIN:VEVENT
DTSTART;TZID=Europe/Helsinki:20251002T110000
DTEND;TZID=Europe/Helsinki:20251002T123000
DTSTAMP:20260425T065908
CREATED:20250917T070910Z
LAST-MODIFIED:20250917T070910Z
UID:4301-1759402800-1759408200@raahenomaishoitajat.fi
SUMMARY:Kuntosaliharjoittelua ja vertaistukea
DESCRIPTION:Tervetuloa kuntoilemaan omaishoitajien ja läheisten yhteiselle kuntosalivuorolle Kuntokeskus Kunnon Paikkaan (Tammitie 16\, Vihanti)! Et tarvitse aiempaa kuntosalikokemusta\, osallistumiseen riittää pelkkä halu osallistua ja tavata toisia. Paikalla on aina vastuuhenkilö\, joka opastaa sinua tarvittaessa. \nKokoonnumme torstaisin klo 11-12.30. Syyskauden aloitus to 2.10.2025. \nRyhmään ovat tervetulleita myös omaishoitajat\, joiden omaishoitopolku on päättynyt. \nPieni omavastuumaksu (2\,00€/kerta maksetaan paikan päällä).
URL:https://raahenomaishoitajat.fi/event/kuntosaliharjoittelua-ja-vertaistukea-63/
LOCATION:kuntokskus Kunnon Paikka\, Tammitie 17\, Vihanti
ATTACH;FMTTYPE=image/png:https://raahenomaishoitajat.fi/content/uploads/2025/09/kunnon-paikka-syksy2025.png
END:VEVENT
BEGIN:VEVENT
DTSTART;TZID=Europe/Helsinki:20251002T170000
DTEND;TZID=Europe/Helsinki:20251002T180000
DTSTAMP:20260425T065908
CREATED:20250709T115116Z
LAST-MODIFIED:20250821T053000Z
UID:4221-1759424400-1759428000@raahenomaishoitajat.fi
SUMMARY:Hyvinvointiwebinaarin etäkatsomo
DESCRIPTION:Tule seuraamaan paikan päälle OmaisOivan toimistolle Omaishoitajaliitto ry:n järjestämiä hyvinvointiin liittyviä asiantuntijavetoisia webinaareja klo 17-18 \nto 11.9. aiheena Kun hoivavastuu muuttuu -näkökulmia omaishoitajille luopumisesta ja sopeutumisesta\, asiantuntijana Tuija Kotiranta Omaisena edelleen ry:stä \nto 2.10.Keho ja mieli yhteistyössä – tukea omaishoitajan arkeen kehotietoisuudesta\, asiantuntijana psykologi\, tanssi-liiketerapeutti Päivi Pylvänäinen \nTo 13.11. klo 16-18 Kuinka lakia luetaan -seminaari \nTo 6.11.  Vaiettu viha – miten käytän sitä voimanani? asiantuntijana perhepsykoterapeutti\, pari- ja seksuaaliterapeutti Heli Pruuki \nTo 11.12.  Seksuaalisuus omaishoitajan voimavarana\, asiantuntijana erityistason seksuaaliterapeutti ja työnohjaaja Henna Suikki \nTilaisuudet ovat kaikille avoimia\, tervetuloa! Tulethan paikalle jo klo 16.45. Lisätietoa Riitalta p. 044 551 6803 \nVoit myös seurata tilaisuuksia myös omalta tietokoneeltasi\, saat sähköpostiisi osallistumislinkin ennakkoilmoittautumalla Omaishoitajaliittoon 2 päivää ennen tilaisuutta www.omaishoitajat.fi/tapahtuma.
URL:https://raahenomaishoitajat.fi/event/hyvinvointiwebinaarin-etakatsomo-6/
LOCATION:OmaisOivan toimisto\, Kauppakeskus Masto
ATTACH;FMTTYPE=image/png:https://raahenomaishoitajat.fi/content/uploads/2025/07/hyvinvointiwebinaaritsyksy2025.png
END:VEVENT
BEGIN:VEVENT
DTSTART;TZID=Europe/Helsinki:20251004T090000
DTEND;TZID=Europe/Helsinki:20251004T160000
DTSTAMP:20260425T065908
CREATED:20250915T084459Z
LAST-MODIFIED:20251002T051536Z
UID:4287-1759568400-1759593600@raahenomaishoitajat.fi
SUMMARY:Vapaaehtoistoiminnan kurssipäivä uusille toimijoille PERUTTU!
DESCRIPTION:Kaipaatko elämääsi iloa\, jota saat toisen ihmisen auttamisesta ja yhteisössä toimimisesta? \nOsallistu la 4.10.2025 klo 9-16 uusille vapaaehtoistoimijoille järjestettävään kurssipäivään Pattijoen Pappilassa (Koulutie 8\, Pattijoki). \nEnnakkoilm. 26.9. mennessä Niina Pöyhtärille p. 040 6710 622 tai niina.poyhtari@evl.fi. \nKurssipäivä on ilmainen\, sis. lounaan ja kahvit. Päivän järjestävät yhteistyössä Raahen seurakunta\, OmaisOiva ja Raahen Psyyke.
URL:https://raahenomaishoitajat.fi/event/vapaaehtoistoiminnan-kurssipaiva-uusille-toimijoille-2/
LOCATION:Pattijoen pappila\, Koulutie 8\, Pattijoki
ATTACH;FMTTYPE=image/png:https://raahenomaishoitajat.fi/content/uploads/2025/09/Nayttokuva-2025-09-15-113045.png
END:VEVENT
BEGIN:VEVENT
DTSTART;TZID=Europe/Helsinki:20251006T090000
DTEND;TZID=Europe/Helsinki:20251006T130000
DTSTAMP:20260425T065908
CREATED:20250709T091728Z
LAST-MODIFIED:20250709T091728Z
UID:4112-1759741200-1759755600@raahenomaishoitajat.fi
SUMMARY:Toimisto avoinna
DESCRIPTION:OmaisOiva toimisto avoinna pääsääntöisesti maanantaisin klo 9-13 Kauppakeskus Mastossa 2.krs (Ollinkalliontie 3\, Raahe). OmaisOivan työntekijän tavoitat henkilökohtaisesti toimiston aukioloaikaan\, muulloin myös puhelimitse ja sähköpostitse. Voit varata henkilökohtaisen neuvonta/keskusteluajan sinulle sopivaan ajankohtaan. Ota rohkeasti yhteyttä\, jos kaipaat tietoa\, tukea tai kuuntelijaa! \nToimistolla myytävänä mm. suruadresseja\, omaishoitoon liittyvää kirjallisuutta sekä T-paitoja yhdistyksen logo-painatuksella. Poikkea tutustumaan!
URL:https://raahenomaishoitajat.fi/event/toimisto-avoinna-101/
ATTACH;FMTTYPE=image/png:https://raahenomaishoitajat.fi/content/uploads/2025/07/toimistosyksy2025.png
END:VEVENT
BEGIN:VEVENT
DTSTART;TZID=Europe/Helsinki:20251007T130000
DTEND;TZID=Europe/Helsinki:20251007T143000
DTSTAMP:20260425T065908
CREATED:20250709T105712Z
LAST-MODIFIED:20250709T105712Z
UID:4203-1759842000-1759847400@raahenomaishoitajat.fi
SUMMARY:OmaisOiva kahvila Ruukissa
DESCRIPTION:Tule vaihtamaan kuulumisia ja saamaan hyvinvointiin liittyvää tietoa kahvikupposen äärelle Irma Pietarilan kotiin (Tölvääntie 54 Ruukki\, Tuomiojan tien varrella). Kokoonnumme tiistaisin 9.9.\, 7.10.\, 11.11. ja 2.12. klo 13-14.30. \nTervetuloa mukaan omaishoitajat ja läheiset sekä omaishoitajat\, joiden omaishoitotilanne on päättynyt!
URL:https://raahenomaishoitajat.fi/event/omaisoiva-kahvila-ruukissa-2/
ATTACH;FMTTYPE=image/png:https://raahenomaishoitajat.fi/content/uploads/2025/07/kotikahvilasyksy2025.png
END:VEVENT
BEGIN:VEVENT
DTSTART;TZID=Europe/Helsinki:20251009T110000
DTEND;TZID=Europe/Helsinki:20251009T123000
DTSTAMP:20260425T065908
CREATED:20250917T071003Z
LAST-MODIFIED:20250917T071003Z
UID:4304-1760007600-1760013000@raahenomaishoitajat.fi
SUMMARY:Kuntosaliharjoittelua ja vertaistukea
DESCRIPTION:Tervetuloa kuntoilemaan omaishoitajien ja läheisten yhteiselle kuntosalivuorolle Kuntokeskus Kunnon Paikkaan (Tammitie 16\, Vihanti)! Et tarvitse aiempaa kuntosalikokemusta\, osallistumiseen riittää pelkkä halu osallistua ja tavata toisia. Paikalla on aina vastuuhenkilö\, joka opastaa sinua tarvittaessa. \nKokoonnumme torstaisin klo 11-12.30.  \nRyhmään ovat tervetulleita myös omaishoitajat\, joiden omaishoitopolku on päättynyt. \nPieni omavastuumaksu (2\,00€/kerta maksetaan paikan päällä).
URL:https://raahenomaishoitajat.fi/event/kuntosaliharjoittelua-ja-vertaistukea-64/
LOCATION:kuntokskus Kunnon Paikka\, Tammitie 17\, Vihanti
ATTACH;FMTTYPE=image/png:https://raahenomaishoitajat.fi/content/uploads/2025/09/kunnon-paikka-syksy2025.png
END:VEVENT
BEGIN:VEVENT
DTSTART;TZID=Europe/Helsinki:20251011T110000
DTEND;TZID=Europe/Helsinki:20251011T150000
DTSTAMP:20260425T065908
CREATED:20250915T094720Z
LAST-MODIFIED:20250924T092002Z
UID:4291-1760180400-1760194800@raahenomaishoitajat.fi
SUMMARY:Voimaa ja vireyttä -messut Raahessa
DESCRIPTION:OmaisOiva on mukana la 11.10.2025 klo 11-15 Voimaa ja vireyttä -messuilla Tapahtumatalo Raahessa (Kirkkokatu 28\, Raahe). \nTule kuulemaan hyödyllistä tietoa luennoilla ja lyhyillä tietoiskuilla\, piipahda myös juttusilla OmaisOivan pisteellä!
URL:https://raahenomaishoitajat.fi/event/voimaa-ja-vireytta-messut-raahessa/
LOCATION:Tapahtumatalo Raahe\, Kirkkokatu 28\, Raahe\, 92100\, Finland
ATTACH;FMTTYPE=image/png:https://raahenomaishoitajat.fi/content/uploads/2025/09/Nayttokuva-2025-09-24-121804.png
END:VEVENT
BEGIN:VEVENT
DTSTART;TZID=Europe/Helsinki:20251014T090000
DTEND;TZID=Europe/Helsinki:20251014T110000
DTSTAMP:20260425T065908
CREATED:20250709T091904Z
LAST-MODIFIED:20250916T080944Z
UID:4114-1760432400-1760439600@raahenomaishoitajat.fi
SUMMARY:Toimisto avoinna (HUOM! poikkeus)
DESCRIPTION:OmaisOiva toimisto avoinna poikkeuksellisesti tiistaina klo 9-11 Kauppakeskus Mastossa 2.krs (Ollinkalliontie 3\, Raahe). OmaisOivan työntekijän tavoitat henkilökohtaisesti toimiston aukioloaikaan\, muulloin myös puhelimitse ja sähköpostitse. Voit varata henkilökohtaisen neuvonta/keskusteluajan sinulle sopivaan ajankohtaan. Ota rohkeasti yhteyttä\, jos kaipaat tietoa\, tukea tai kuuntelijaa! \nToimistolla myytävänä mm. suruadresseja\, omaishoitoon liittyvää kirjallisuutta sekä T-paitoja yhdistyksen logo-painatuksella. Poikkea tutustumaan!
URL:https://raahenomaishoitajat.fi/event/toimisto-avoinna-huom-poikkeus/
LOCATION:OmaisOivan toimisto\, Kauppakeskus Masto
ATTACH;FMTTYPE=image/png:https://raahenomaishoitajat.fi/content/uploads/2025/07/toimistosyksy2025.png
END:VEVENT
BEGIN:VEVENT
DTSTART;TZID=Europe/Helsinki:20251014T130000
DTEND;TZID=Europe/Helsinki:20251014T143000
DTSTAMP:20260425T065908
CREATED:20250709T104826Z
LAST-MODIFIED:20250709T104826Z
UID:4194-1760446800-1760452200@raahenomaishoitajat.fi
SUMMARY:OmaisOivan kahvila Vihannin Kuusiratissa
DESCRIPTION:Tervetuloa yhteiseen päiväkahvitilaisuuteen Kuusiratin kylätalolle (Nuupakantie 143 Vihanti)! \nKokoonnumme tiistaisin 16.9.\, 14.10.\, 18.11. ja 9.12. klo 13-14.30. \nTilaisuus on kaikille avoin riippumatta omaishoitotilanteesta. Tule mukaan vaikkapa ystäväsi tai naapurisi kanssa!
URL:https://raahenomaishoitajat.fi/event/omaisoivan-kahvila-vihannin-kuusiratissa/
LOCATION:Kuusiratin kylätalo\, Nuupakantie 143\, Vihanti
ATTACH;FMTTYPE=image/png:https://raahenomaishoitajat.fi/content/uploads/2025/07/Kuusirati-syksy-2025.png
END:VEVENT
BEGIN:VEVENT
DTSTART;TZID=Europe/Helsinki:20251015T120000
DTEND;TZID=Europe/Helsinki:20251015T140000
DTSTAMP:20260425T065908
CREATED:20250821T091243Z
LAST-MODIFIED:20250821T091243Z
UID:4255-1760529600-1760536800@raahenomaishoitajat.fi
SUMMARY:Omaisena muutostilanteessa; tunteita\, kohtaamisia ja omaisyhteistyötä
DESCRIPTION:Mietityttääkö lyhytaikaishoito? Onko läheisesi siirtymässä kodin ulkopuoliseen hoivaan? Miten sopeutua uuteen elämänvaiheeseen? \nTule pohtimaan ja keskustelemaan muutosvaiheesta ke 15.10. klo 12-14 Praatiin (Kirkkokatu 43\, Raahe). \nKeskustelua alustaa Tuija Kotiranta Omaisena edelleen yhdistyksestä. Ennakkoilm. 10.10.mennessä Riitalle p. 04 551 6803. Kahvitarjoilu.
URL:https://raahenomaishoitajat.fi/event/omaisena-muutostilanteessa-tunteita-kohtaamisia-ja-omaisyhteistyota/
LOCATION:Praati\, Kirkkokatu 43\, Raahe\, 92100\, Finland
ATTACH;FMTTYPE=image/png:https://raahenomaishoitajat.fi/content/uploads/2025/08/Omaisena-muutostilanteessa-esite.png
END:VEVENT
BEGIN:VEVENT
DTSTART;TZID=Europe/Helsinki:20251015T140000
DTEND;TZID=Europe/Helsinki:20251015T160000
DTSTAMP:20260425T065908
CREATED:20250829T061808Z
LAST-MODIFIED:20250922T104127Z
UID:4275-1760536800-1760544000@raahenomaishoitajat.fi
SUMMARY:Miesomaishoitajien ryhmä HUOM! aika
DESCRIPTION:Kaipaatko vertaistukea\, virkistystä ja ajatusten vaihtoa toisten mieshoivaajien kanssa? Onko omaishoitotilanteesi päättynyt? \nTule mukaan miesten ryhmään\, joka kokoontuu ke 24.9.\, 15.10.\, 5.11.\, 26.11. ja 17.12. klo 14-16 Raahen seudun Muistiyhdistyksen tiloissa. Ensimmäisellä kokoontumiskerralla liikuntatuokio ulkona\, voit ottaa mukaasi omat kävelysauvat. Ryhmä toteutetaan yhteistyössä Raahenseudun Ladun ja Raahen seudun Muistiyhdistyksen/Pohjois-Pohjanmaan Muistiluotsin kanssa.
URL:https://raahenomaishoitajat.fi/event/miesomaishoitajien-ryhma-2/
LOCATION:Rantakatu 7E Raahe\, Rantakatu 7E\, Raahe
ATTACH;FMTTYPE=image/png:https://raahenomaishoitajat.fi/content/uploads/2025/08/Nayttokuva-2025-09-22-133757.png
END:VEVENT
BEGIN:VEVENT
DTSTART;TZID=Europe/Helsinki:20251016T110000
DTEND;TZID=Europe/Helsinki:20251016T123000
DTSTAMP:20260425T065908
CREATED:20250917T071055Z
LAST-MODIFIED:20250917T071055Z
UID:4306-1760612400-1760617800@raahenomaishoitajat.fi
SUMMARY:Kuntosaliharjoittelua ja vertaistukea
DESCRIPTION:Tervetuloa kuntoilemaan omaishoitajien ja läheisten yhteiselle kuntosalivuorolle Kuntokeskus Kunnon Paikkaan (Tammitie 16\, Vihanti)! Et tarvitse aiempaa kuntosalikokemusta\, osallistumiseen riittää pelkkä halu osallistua ja tavata toisia. Paikalla on aina vastuuhenkilö\, joka opastaa sinua tarvittaessa. \nKokoonnumme torstaisin klo 11-12.30.  \nRyhmään ovat tervetulleita myös omaishoitajat\, joiden omaishoitopolku on päättynyt. \nPieni omavastuumaksu (2\,00€/kerta maksetaan paikan päällä).
URL:https://raahenomaishoitajat.fi/event/kuntosaliharjoittelua-ja-vertaistukea-65/
LOCATION:kuntokskus Kunnon Paikka\, Tammitie 17\, Vihanti
ATTACH;FMTTYPE=image/png:https://raahenomaishoitajat.fi/content/uploads/2025/09/kunnon-paikka-syksy2025.png
END:VEVENT
BEGIN:VEVENT
DTSTART;TZID=Europe/Helsinki:20251016T120000
DTEND;TZID=Europe/Helsinki:20251016T133000
DTSTAMP:20260425T065908
CREATED:20250709T110408Z
LAST-MODIFIED:20250709T110408Z
UID:4212-1760616000-1760621400@raahenomaishoitajat.fi
SUMMARY:OmaisOiva kahvila Raahessa
DESCRIPTION:Kaikille avoimet\, maksuttomat päiväkahvit Konsti ry:n tiloissa (Ratakatu 3\, Raahe) Kokoonnumme torstaisin 18.9.\, 16.10.\, 27.11. ja 4.12. klo 12-13.30. \nTilaisuus on kaikille avoin riippumatta omaishoitotilanteesta. Tervetuloa vaihtamaan ajatuksia vertaisten kanssa!
URL:https://raahenomaishoitajat.fi/event/omaisoiva-kahvila-raahessa-2/
LOCATION:Kansalaistalo Konsti ry\, Ratakatu 3\, Raahe
ATTACH;FMTTYPE=image/png:https://raahenomaishoitajat.fi/content/uploads/2025/07/konstisyksy2025.png
END:VEVENT
BEGIN:VEVENT
DTSTART;TZID=Europe/Helsinki:20251020T130000
DTEND;TZID=Europe/Helsinki:20251020T143000
DTSTAMP:20260425T065908
CREATED:20250709T100318Z
LAST-MODIFIED:20251007T061120Z
UID:4156-1760965200-1760970600@raahenomaishoitajat.fi
SUMMARY:Omaishoitajien keskustelupiiri Raahessa
DESCRIPTION:Tervetuloa mukaan omaishoitajien keskustelupiiriin omaishoitajat ja omaishoidettavat vaihtamaan ajatuksia kahvikupposen äärelle! \nKokoonnumme maanantaisin klo 12-13.30 Raahen seurakuntakeskuksen Brahe-kokoustilassa (Sovionkatu 1\, Raahe)\, kokoontumisajat 22.9.\, 20.10.\, 3.11. ja 15.12. \nTervetuloa vertaisten joukkoon uudet ja entiset ryhmäläiset sekä omaishoitajat\, joiden omaishoitotilanne on päättynyt! \nHUOM! Omaishoidettaville ohjaajan kanssa omaa ohjelmaa viereisessä tilassa. \nRyhmätoiminta järjestetään yhteistyössä Raahen seurakunnan kanssa\, ohjaajana diakoni Jenni Ranta.
URL:https://raahenomaishoitajat.fi/event/omaishoitajien-keskustelupiiri-raahessa-8/
LOCATION:Raahen seurakuntakeskus\, Sovionkatu 1\, Raahe
ATTACH;FMTTYPE=image/png:https://raahenomaishoitajat.fi/content/uploads/2025/07/keskustelupiirisyksy2025.png
END:VEVENT
BEGIN:VEVENT
DTSTART;TZID=Europe/Helsinki:20251023T090000
DTEND;TZID=Europe/Helsinki:20251023T130000
DTSTAMP:20260425T065908
CREATED:20250709T092013Z
LAST-MODIFIED:20250709T092013Z
UID:4116-1761210000-1761224400@raahenomaishoitajat.fi
SUMMARY:Toimisto avoinna (HUOM! poikkeus)
DESCRIPTION:OmaisOiva toimisto avoinna poikkeuksellisesti torstaina klo 9-13 Kauppakeskus Mastossa 2.krs (Ollinkalliontie 3\, Raahe). OmaisOivan työntekijän tavoitat henkilökohtaisesti toimiston aukioloaikaan\, muulloin myös puhelimitse ja sähköpostitse. Voit varata henkilökohtaisen neuvonta/keskusteluajan sinulle sopivaan ajankohtaan. Ota rohkeasti yhteyttä\, jos kaipaat tietoa\, tukea tai kuuntelijaa! \nToimistolla myytävänä mm. suruadresseja\, omaishoitoon liittyvää kirjallisuutta sekä T-paitoja yhdistyksen logo-painatuksella. Poikkea tutustumaan!
URL:https://raahenomaishoitajat.fi/event/toimisto-avoinna-huom-poikkeus-2/
LOCATION:OmaisOivan toimisto\, Kauppakeskus Masto
ATTACH;FMTTYPE=image/png:https://raahenomaishoitajat.fi/content/uploads/2025/07/toimistosyksy2025.png
END:VEVENT
BEGIN:VEVENT
DTSTART;TZID=Europe/Helsinki:20251023T110000
DTEND;TZID=Europe/Helsinki:20251023T123000
DTSTAMP:20260425T065908
CREATED:20250917T071148Z
LAST-MODIFIED:20250917T071148Z
UID:4308-1761217200-1761222600@raahenomaishoitajat.fi
SUMMARY:Kuntosaliharjoittelua ja vertaistukea
DESCRIPTION:Tervetuloa kuntoilemaan omaishoitajien ja läheisten yhteiselle kuntosalivuorolle Kuntokeskus Kunnon Paikkaan (Tammitie 16\, Vihanti)! Et tarvitse aiempaa kuntosalikokemusta\, osallistumiseen riittää pelkkä halu osallistua ja tavata toisia. Paikalla on aina vastuuhenkilö\, joka opastaa sinua tarvittaessa. \nKokoonnumme torstaisin klo 11-12.30.  \nRyhmään ovat tervetulleita myös omaishoitajat\, joiden omaishoitopolku on päättynyt. \nPieni omavastuumaksu (2\,00€/kerta maksetaan paikan päällä).
URL:https://raahenomaishoitajat.fi/event/kuntosaliharjoittelua-ja-vertaistukea-66/
LOCATION:kuntokskus Kunnon Paikka\, Tammitie 17\, Vihanti
ATTACH;FMTTYPE=image/png:https://raahenomaishoitajat.fi/content/uploads/2025/09/kunnon-paikka-syksy2025.png
END:VEVENT
BEGIN:VEVENT
DTSTART;TZID=Europe/Helsinki:20251023T170000
DTEND;TZID=Europe/Helsinki:20251023T190000
DTSTAMP:20260425T065908
CREATED:20250821T093055Z
LAST-MODIFIED:20251021T071936Z
UID:4257-1761238800-1761246000@raahenomaishoitajat.fi
SUMMARY:etäOvet-valmennusta kaikille läheisestään huolehtiville PERUTTU
DESCRIPTION:Haluatko vahvistaa omaishoitoon liittyviä tietojasi ja taitojasi? Kaipaatko tutustumista ja ajatusten vaihtoa toisten omaishoitajien kanssa? \nTule mukaan etäOvet-valmennukseen (R)! Kokoonnumme verkossa kolmena päivänä 23.10.\, 29.10. ja 30.10. klo 17-n.19. Osallistumiseen tarvitset tietokoneen\, mikrofonin ja kameran\, osallistumislinkin saat sähköpostiisi. Saat tarvittaessa opastusta TEAMS-yhteyden ja tietokoneen käyttöön. \nEnnakkoilm. 17.10. mennessä Riitalle p. 044 551 6803.  \nTERVETULOA MUKAAN!
URL:https://raahenomaishoitajat.fi/event/etaovet-valmennusta-kaikille-laheisestaan-huolehtiville/
ATTACH;FMTTYPE=image/png:https://raahenomaishoitajat.fi/content/uploads/2025/08/etaOvet2025.png
END:VEVENT
BEGIN:VEVENT
DTSTART;TZID=Europe/Helsinki:20251027T090000
DTEND;TZID=Europe/Helsinki:20251027T120000
DTSTAMP:20260425T065908
CREATED:20250709T092122Z
LAST-MODIFIED:20250709T092122Z
UID:4118-1761555600-1761566400@raahenomaishoitajat.fi
SUMMARY:Toimisto avoinna
DESCRIPTION:OmaisOiva toimisto avoinna poikkeuksellisesti klo 9-12 Kauppakeskus Mastossa 2.krs (Ollinkalliontie 3\, Raahe). OmaisOivan työntekijän tavoitat henkilökohtaisesti toimiston aukioloaikaan\, muulloin myös puhelimitse ja sähköpostitse. Voit varata henkilökohtaisen neuvonta/keskusteluajan sinulle sopivaan ajankohtaan. Ota rohkeasti yhteyttä\, jos kaipaat tietoa\, tukea tai kuuntelijaa! \nToimistolla myytävänä mm. suruadresseja\, omaishoitoon liittyvää kirjallisuutta sekä T-paitoja yhdistyksen logo-painatuksella. Poikkea tutustumaan!
URL:https://raahenomaishoitajat.fi/event/toimisto-avoinna-102/
LOCATION:OmaisOivan toimisto\, Kauppakeskus Masto
ATTACH;FMTTYPE=image/png:https://raahenomaishoitajat.fi/content/uploads/2025/07/toimistosyksy2025.png
END:VEVENT
BEGIN:VEVENT
DTSTART;TZID=Europe/Helsinki:20251027T130000
DTEND;TZID=Europe/Helsinki:20251027T143000
DTSTAMP:20260425T065908
CREATED:20250709T095242Z
LAST-MODIFIED:20250709T095242Z
UID:4147-1761570000-1761575400@raahenomaishoitajat.fi
SUMMARY:Pyhäjoen omaishoitajaryhmä (Pisara)
DESCRIPTION:Tule mukaan omaishoitajien Pisara-ryhmään vaihtamaan ajatuksia kahvikupposen äärelle! \nTervetulleita vertaisten joukkoon uudet ja entiset ryhmäläiset sekä omaishoitajat\, joiden omaishoitotilanne on päättynyt. Voit tulla mukaan myös yhdessä läheisesi kanssa. \nKokoonnumme kuukauden viimeinen maanantai klo 13-14.30 Sarpatissa (Vanhatie 27\, Pyhäjoki) 25.8.\, 29.9.\, 27.10.\, 24.11. ja joulupuurojuhla 15.12. (HUOM! klo 12 srk-talolla). \nRyhmä toteutetaan yhteistyössä Pyhäjoen seurakunnan kanssa.
URL:https://raahenomaishoitajat.fi/event/pyhajoen-omaishoitajaryhma-pisara-3/
LOCATION:Sarpatti\, Vanhatie 27\, Pyhäjoki\, Suomi
ATTACH;FMTTYPE=image/png:https://raahenomaishoitajat.fi/content/uploads/2025/07/Pisarasyksy2025.png
END:VEVENT
BEGIN:VEVENT
DTSTART;TZID=Europe/Helsinki:20251028T163000
DTEND;TZID=Europe/Helsinki:20251028T180000
DTSTAMP:20260425T065908
CREATED:20250709T101111Z
LAST-MODIFIED:20250930T092723Z
UID:4165-1761669000-1761674400@raahenomaishoitajat.fi
SUMMARY:Erityislasten vanhempien ryhmä Raahessa
DESCRIPTION:Onko perheessäsi erityistä tukea tarvitseva lapsi? Kaipaatko vertaistukea ja ajatusten vaihtoa muiden vanhempien kanssa? \nTule mukaan seutukunnalliseen erityislasten vanhempien ryhmään\, joka kokoontuu kuukauden viimeinen tiistai klo 16.30-n.18 (HUOM! aika) Raahen Psyyke ry:n Tuvalla (Rantakatu 58\, Raahe). Kokoontumisajat ovat 30.9.\, 28.10.\, 25.11. ja 16.12. (poikkeus). \nRyhmään osallistuminen ei edellytä lapsen diagnoosia\, omaishoidon tuen saantia tai yhdistysjäsenyyttä. Tervetuloa vertaisten joukkoon uudet ja entiset ryhmäläiset!
URL:https://raahenomaishoitajat.fi/event/erityislasten-vanhempien-ryhma-raahessa-2/
LOCATION:Raahen Psyyke ry\, Rantakatu 58\, Raahe
ATTACH;FMTTYPE=image/png:https://raahenomaishoitajat.fi/content/uploads/2025/07/syksy2025paivitetty.png
END:VEVENT
BEGIN:VEVENT
DTSTART;TZID=Europe/Helsinki:20251029T170000
DTEND;TZID=Europe/Helsinki:20251029T190000
DTSTAMP:20260425T065908
CREATED:20250821T093347Z
LAST-MODIFIED:20251021T071856Z
UID:4261-1761757200-1761764400@raahenomaishoitajat.fi
SUMMARY:etäOvet-valmennusta kaikille läheisestään huolehtiville PERUTTU
DESCRIPTION:Haluatko vahvistaa omaishoitoon liittyviä tietojasi ja taitojasi? Kaipaatko tutustumista ja ajatusten vaihtoa toisten omaishoitajien kanssa? \nTule mukaan etäOvet-valmennukseen (R)! Kokoonnumme verkossa kolmena päivänä 23.10.\, 29.10. ja 30.10. klo 17-n.19. Osallistumiseen tarvitset tietokoneen\, mikrofonin ja kameran\, osallistumislinkin saat sähköpostiisi. Saat tarvittaessa opastusta TEAMS-yhteyden ja tietokoneen käyttöön. \nEnnakkoilm. 17.10. mennessä Riitalle p. 044 551 6803. \nTERVETULOA MUKAAN!
URL:https://raahenomaishoitajat.fi/event/etaovet-valmennusta-kaikille-laheisestaan-huolehtiville-2/
ATTACH;FMTTYPE=image/png:https://raahenomaishoitajat.fi/content/uploads/2025/08/etaOvet2025.png
END:VEVENT
BEGIN:VEVENT
DTSTART;TZID=Europe/Helsinki:20251030T110000
DTEND;TZID=Europe/Helsinki:20251030T123000
DTSTAMP:20260425T065908
CREATED:20250917T072016Z
LAST-MODIFIED:20250917T072016Z
UID:4324-1761822000-1761827400@raahenomaishoitajat.fi
SUMMARY:Kuntosaliharjoittelua ja vertaistukea
DESCRIPTION:Tervetuloa kuntoilemaan omaishoitajien ja läheisten yhteiselle kuntosalivuorolle Kuntokeskus Kunnon Paikkaan (Tammitie 16\, Vihanti)! Et tarvitse aiempaa kuntosalikokemusta\, osallistumiseen riittää pelkkä halu osallistua ja tavata toisia. Paikalla on aina vastuuhenkilö\, joka opastaa sinua tarvittaessa. \nKokoonnumme torstaisin klo 11-12.30.  \nRyhmään ovat tervetulleita myös omaishoitajat\, joiden omaishoitopolku on päättynyt. \nPieni omavastuumaksu (2\,00€/kerta maksetaan paikan päällä).
URL:https://raahenomaishoitajat.fi/event/kuntosaliharjoittelua-ja-vertaistukea-74/
LOCATION:kuntokskus Kunnon Paikka\, Tammitie 17\, Vihanti
ATTACH;FMTTYPE=image/png:https://raahenomaishoitajat.fi/content/uploads/2025/09/kunnon-paikka-syksy2025.png
END:VEVENT
BEGIN:VEVENT
DTSTART;TZID=Europe/Helsinki:20251030T170000
DTEND;TZID=Europe/Helsinki:20251030T190000
DTSTAMP:20260425T065908
CREATED:20250821T093437Z
LAST-MODIFIED:20251021T071655Z
UID:4263-1761843600-1761850800@raahenomaishoitajat.fi
SUMMARY:etäOvet-valmennusta kaikille läheisestään huolehtiville PERUTTU
DESCRIPTION:Haluatko vahvistaa omaishoitoon liittyviä tietojasi ja taitojasi? Kaipaatko tutustumista ja ajatusten vaihtoa toisten omaishoitajien kanssa? \nTule mukaan etäOvet-valmennukseen (R)! Kokoonnumme verkossa kolmena päivänä 23.10.\, 29.10. ja 30.10. klo 17-n.19. Osallistumiseen tarvitset tietokoneen\, mikrofonin ja kameran\, osallistumislinkin saat sähköpostiisi. Saat tarvittaessa opastusta TEAMS-yhteyden ja tietokoneen käyttöön. \nEnnakkoilm. 17.10. mennessä Riitalle p. 044 551 6803. \nTERVETULOA MUKAAN!
URL:https://raahenomaishoitajat.fi/event/etaovet-valmennusta-kaikille-laheisestaan-huolehtiville-3/
ATTACH;FMTTYPE=image/png:https://raahenomaishoitajat.fi/content/uploads/2025/08/etaOvet2025.png
END:VEVENT
BEGIN:VEVENT
DTSTART;TZID=Europe/Helsinki:20251031T100000
DTEND;TZID=Europe/Helsinki:20251031T113000
DTSTAMP:20260425T065908
CREATED:20250709T102237Z
LAST-MODIFIED:20250709T102237Z
UID:4176-1761904800-1761910200@raahenomaishoitajat.fi
SUMMARY:Puheenjohtajan etäpäiväkahvit verkossa
DESCRIPTION:Puheenjohtajan etäpäiväkahvit kuukauden viimeinen perjantai klo 10Teams-yhteydellä 29.8.\, 26.9.\, 31.10.\, 28.11. ja 12.12. (poikkeus). Tule jutustelemaan\, vaihtamaan kuulumisia\, tai vaikkapa jakamaan pieniä tarinoita yhdistyksemme puheenjohtaja Aarne Eskolan\, Riitan sekä muiden osallistujien kanssa. Osallistuaksesi tarvitset tietokoneen\, nettiyhteyden\, kameran sekä mikrofonin. Mukaan pääset ilmoittamalla sähköpostiosoitteesi Riitalle edelliseen päivään mennessä riitta.sipola@raahenomaishoitajat.fi tai p. 044 551 6803. \nSaat tarvittaessa henkilökohtaista opastusta tietokoneen sekä Teams-yhteyden käytössä. \nTavataan päiväkahvien merkeissä etänä!
URL:https://raahenomaishoitajat.fi/event/puheenjohtajan-etapaivakahvit-verkossa-9/
ATTACH;FMTTYPE=image/png:https://raahenomaishoitajat.fi/content/uploads/2025/07/syksy2025-1.png
END:VEVENT
END:VCALENDAR