BEGIN:VCALENDAR
VERSION:2.0
PRODID:-//Raahen seudun Omaishoitajat ja Läheiset ry - ECPv6.15.20//NONSGML v1.0//EN
CALSCALE:GREGORIAN
METHOD:PUBLISH
X-ORIGINAL-URL:https://raahenomaishoitajat.fi
X-WR-CALDESC:Events for Raahen seudun Omaishoitajat ja Läheiset ry
REFRESH-INTERVAL;VALUE=DURATION:PT1H
X-Robots-Tag:noindex
X-PUBLISHED-TTL:PT1H
BEGIN:VTIMEZONE
TZID:Europe/Helsinki
BEGIN:DAYLIGHT
TZOFFSETFROM:+0200
TZOFFSETTO:+0300
TZNAME:EEST
DTSTART:20240331T010000
END:DAYLIGHT
BEGIN:STANDARD
TZOFFSETFROM:+0300
TZOFFSETTO:+0200
TZNAME:EET
DTSTART:20241027T010000
END:STANDARD
BEGIN:DAYLIGHT
TZOFFSETFROM:+0200
TZOFFSETTO:+0300
TZNAME:EEST
DTSTART:20250330T010000
END:DAYLIGHT
BEGIN:STANDARD
TZOFFSETFROM:+0300
TZOFFSETTO:+0200
TZNAME:EET
DTSTART:20251026T010000
END:STANDARD
BEGIN:DAYLIGHT
TZOFFSETFROM:+0200
TZOFFSETTO:+0300
TZNAME:EEST
DTSTART:20260329T010000
END:DAYLIGHT
BEGIN:STANDARD
TZOFFSETFROM:+0300
TZOFFSETTO:+0200
TZNAME:EET
DTSTART:20261025T010000
END:STANDARD
END:VTIMEZONE
BEGIN:VEVENT
DTSTART;VALUE=DATE:20250721
DTEND;VALUE=DATE:20250818
DTSTAMP:20260425T041210
CREATED:20250527T060752Z
LAST-MODIFIED:20250527T060752Z
UID:4061-1753056000-1755475199@raahenomaishoitajat.fi
SUMMARY:Toimisto suljettu työntekijän kesäloman ajan
DESCRIPTION:Toimisto suljettu ja työntekijä kesälomalla 21.7.-17.8.2025.
URL:https://raahenomaishoitajat.fi/event/toimisto-suljettu-tyontekijan-kesaloman-ajan/
ATTACH;FMTTYPE=image/png:https://raahenomaishoitajat.fi/content/uploads/2025/05/kesaloma2025.png
END:VEVENT
BEGIN:VEVENT
DTSTART;TZID=Europe/Helsinki:20250820T100000
DTEND;TZID=Europe/Helsinki:20250820T120000
DTSTAMP:20260425T041210
CREATED:20250709T094104Z
LAST-MODIFIED:20250709T094104Z
UID:4136-1755684000-1755691200@raahenomaishoitajat.fi
SUMMARY:OmaisOiva mukana hyvinvointikiertueelle Vihannissa ja Ruukissa
DESCRIPTION:Tervetuloa tutustumaan hyvinvointikiertueen tarjontaan Vihannissa Aamuruskon tiloissa klo 10-12 (Pekkalantie 3) ja Ruukissa Kreivinsaaressa klo 14-16 (Ahlströmointie 1)!
URL:https://raahenomaishoitajat.fi/event/omaisoiva-mukana-hyvinvointikiertueelle-vihannissa-ja-ruukissa/
LOCATION:Aamurusko\, Pekkalantie 3\, 86400 Vihanti
ATTACH;FMTTYPE=image/png:https://raahenomaishoitajat.fi/content/uploads/2025/07/Vihanti_kuva.png
END:VEVENT
BEGIN:VEVENT
DTSTART;TZID=Europe/Helsinki:20250820T140000
DTEND;TZID=Europe/Helsinki:20250820T160000
DTSTAMP:20260425T041210
CREATED:20250709T094234Z
LAST-MODIFIED:20250709T094234Z
UID:4139-1755698400-1755705600@raahenomaishoitajat.fi
SUMMARY:OmaisOiva mukana hyvinvointikiertueella Vihannissa ja Ruukissa
DESCRIPTION:Tervetuloa tutustumaan hyvinvointikiertueen tarjontaan Vihannissa Aamuruskon tiloissa klo 10-12 (Pekkalantie 3) ja Ruukissa Kreivinsaaressa klo 14-16 (Ahlströmointie 1)!
URL:https://raahenomaishoitajat.fi/event/omaisoiva-mukana-hyvinvointikiertueella-vihannissa-ja-ruukissa/
LOCATION:Aamurusko\, Pekkalantie 3\, 86400 Vihanti
ATTACH;FMTTYPE=image/png:https://raahenomaishoitajat.fi/content/uploads/2025/07/Ruukki_kuva.png
END:VEVENT
BEGIN:VEVENT
DTSTART;TZID=Europe/Helsinki:20250825T090000
DTEND;TZID=Europe/Helsinki:20250825T130000
DTSTAMP:20260425T041210
CREATED:20250709T091158Z
LAST-MODIFIED:20250709T091158Z
UID:4099-1756112400-1756126800@raahenomaishoitajat.fi
SUMMARY:Toimisto avoinna
DESCRIPTION:OmaisOiva toimisto avoinna pääsääntöisesti maanantaisin klo 9-13 Kauppakeskus Mastossa 2.krs (Ollinkalliontie 3\, Raahe). OmaisOivan työntekijän tavoitat henkilökohtaisesti toimiston aukioloaikaan\, muulloin myös puhelimitse ja sähköpostitse. Voit varata henkilökohtaisen neuvonta/keskusteluajan sinulle sopivaan ajankohtaan. Ota rohkeasti yhteyttä\, jos kaipaat tietoa\, tukea tai kuuntelijaa! \nToimistolla myytävänä mm. suruadresseja\, omaishoitoon liittyvää kirjallisuutta sekä T-paitoja yhdistyksen logo-painatuksella. Poikkea tutustumaan!
URL:https://raahenomaishoitajat.fi/event/toimisto-avoinna-95/
LOCATION:OmaisOivan toimisto\, Kauppakeskus Masto
ATTACH;FMTTYPE=image/png:https://raahenomaishoitajat.fi/content/uploads/2025/07/toimistosyksy2025.png
END:VEVENT
BEGIN:VEVENT
DTSTART;TZID=Europe/Helsinki:20250825T130000
DTEND;TZID=Europe/Helsinki:20250825T143000
DTSTAMP:20260425T041210
CREATED:20250709T095029Z
LAST-MODIFIED:20250709T095029Z
UID:4142-1756126800-1756132200@raahenomaishoitajat.fi
SUMMARY:Pyhäjoen omaishoitajaryhmä (Pisara)
DESCRIPTION:Tule mukaan omaishoitajien Pisara-ryhmään vaihtamaan ajatuksia kahvikupposen äärelle! \nTervetulleita vertaisten joukkoon uudet ja entiset ryhmäläiset sekä omaishoitajat\, joiden omaishoitotilanne on päättynyt. Voit tulla mukaan myös yhdessä läheisesi kanssa. \nKokoonnumme kuukauden viimeinen maanantai klo 13-14.30 Sarpatissa (Vanhatie 27\, Pyhäjoki) 25.8.\, 29.9.\, 27.10.\, 24.11. ja joulupuurojuhla 15.12. (HUOM! klo 12 srk-talolla). \nRyhmä toteutetaan yhteistyössä Pyhäjoen seurakunnan kanssa.
URL:https://raahenomaishoitajat.fi/event/pyhajoen-omaishoitajaryhma-pisara/
LOCATION:Sarpatti\, Vanhatie 27\, Pyhäjoki\, Suomi
ATTACH;FMTTYPE=image/png:https://raahenomaishoitajat.fi/content/uploads/2025/07/Pisarasyksy2025.png
END:VEVENT
BEGIN:VEVENT
DTSTART;TZID=Europe/Helsinki:20250829T100000
DTEND;TZID=Europe/Helsinki:20250829T113000
DTSTAMP:20260425T041210
CREATED:20250709T102053Z
LAST-MODIFIED:20250709T102053Z
UID:4171-1756461600-1756467000@raahenomaishoitajat.fi
SUMMARY:Puheenjohtajan etäpäiväkahvit verkossa
DESCRIPTION:Puheenjohtajan etäpäiväkahvit kuukauden viimeinen perjantai klo 10Teams-yhteydellä 29.8.\, 26.9.\, 31.10.\, 28.11. ja 12.12. (poikkeus). Tule jutustelemaan\, vaihtamaan kuulumisia\, tai vaikkapa jakamaan pieniä tarinoita yhdistyksemme puheenjohtaja Aarne Eskolan\, Riitan sekä muiden osallistujien kanssa. Osallistuaksesi tarvitset tietokoneen\, nettiyhteyden\, kameran sekä mikrofonin. Mukaan pääset ilmoittamalla sähköpostiosoitteesi Riitalle edelliseen päivään mennessä riitta.sipola@raahenomaishoitajat.fi tai p. 044 551 6803. \nSaat tarvittaessa henkilökohtaista opastusta tietokoneen sekä Teams-yhteyden käytössä. \nTavataan päiväkahvien merkeissä etänä!
URL:https://raahenomaishoitajat.fi/event/puheenjohtajan-etapaivakahvit-verkossa-7/
ATTACH;FMTTYPE=image/png:https://raahenomaishoitajat.fi/content/uploads/2025/07/syksy2025-1.png
END:VEVENT
END:VCALENDAR