BEGIN:VCALENDAR
VERSION:2.0
PRODID:-//Raahen seudun Omaishoitajat ja Läheiset ry - ECPv6.15.20//NONSGML v1.0//EN
CALSCALE:GREGORIAN
METHOD:PUBLISH
X-ORIGINAL-URL:https://raahenomaishoitajat.fi
X-WR-CALDESC:Events for Raahen seudun Omaishoitajat ja Läheiset ry
REFRESH-INTERVAL;VALUE=DURATION:PT1H
X-Robots-Tag:noindex
X-PUBLISHED-TTL:PT1H
BEGIN:VTIMEZONE
TZID:Europe/Helsinki
BEGIN:DAYLIGHT
TZOFFSETFROM:+0200
TZOFFSETTO:+0300
TZNAME:EEST
DTSTART:20240331T010000
END:DAYLIGHT
BEGIN:STANDARD
TZOFFSETFROM:+0300
TZOFFSETTO:+0200
TZNAME:EET
DTSTART:20241027T010000
END:STANDARD
BEGIN:DAYLIGHT
TZOFFSETFROM:+0200
TZOFFSETTO:+0300
TZNAME:EEST
DTSTART:20250330T010000
END:DAYLIGHT
BEGIN:STANDARD
TZOFFSETFROM:+0300
TZOFFSETTO:+0200
TZNAME:EET
DTSTART:20251026T010000
END:STANDARD
BEGIN:DAYLIGHT
TZOFFSETFROM:+0200
TZOFFSETTO:+0300
TZNAME:EEST
DTSTART:20260329T010000
END:DAYLIGHT
BEGIN:STANDARD
TZOFFSETFROM:+0300
TZOFFSETTO:+0200
TZNAME:EET
DTSTART:20261025T010000
END:STANDARD
END:VTIMEZONE
BEGIN:VEVENT
DTSTART;TZID=Europe/Helsinki:20250602T090000
DTEND;TZID=Europe/Helsinki:20250602T130000
DTSTAMP:20260425T011525
CREATED:20250527T065928Z
LAST-MODIFIED:20250527T065928Z
UID:4076-1748854800-1748869200@raahenomaishoitajat.fi
SUMMARY:Toimisto avoinna
DESCRIPTION:OmaisOiva toimisto avoinna pääsääntöisesti maanantaisin klo 9-13 Kauppakeskus Mastossa 2.krs (Ollinkalliontie 3\, Raahe). OmaisOivan työntekijän tavoitat henkilökohtaisesti toimiston aukioloaikaan\, muulloin myös puhelimitse ja sähköpostitse. Voit varata henkilökohtaisen neuvonta/keskusteluajan sinulle sopivaan ajankohtaan. Ota rohkeasti yhteyttä\, jos kaipaat tietoa\, tukea tai kuuntelijaa! \nToimistolla myytävänä mm. suruadresseja\, omaishoitoon liittyvää kirjallisuutta sekä T-paitoja yhdistyksen logo-painatuksella. Poikkea tutustumaan!
URL:https://raahenomaishoitajat.fi/event/toimisto-avoinna-79/
LOCATION:OmaisOivan toimisto\, Kauppakeskus Masto
ATTACH;FMTTYPE=image/png:https://raahenomaishoitajat.fi/content/uploads/2025/05/toimistokioski2025.png
END:VEVENT
BEGIN:VEVENT
DTSTART;TZID=Europe/Helsinki:20250609T090000
DTEND;TZID=Europe/Helsinki:20250609T130000
DTSTAMP:20260425T011525
CREATED:20250527T070216Z
LAST-MODIFIED:20250527T070216Z
UID:4080-1749459600-1749474000@raahenomaishoitajat.fi
SUMMARY:Toimisto avoinna
DESCRIPTION:OmaisOiva toimisto avoinna pääsääntöisesti maanantaisin klo 9-13 Kauppakeskus Mastossa 2.krs (Ollinkalliontie 3\, Raahe). OmaisOivan työntekijän tavoitat henkilökohtaisesti toimiston aukioloaikaan\, muulloin myös puhelimitse ja sähköpostitse. Voit varata henkilökohtaisen neuvonta/keskusteluajan sinulle sopivaan ajankohtaan. Ota rohkeasti yhteyttä\, jos kaipaat tietoa\, tukea tai kuuntelijaa! \nToimistolla myytävänä mm. suruadresseja\, omaishoitoon liittyvää kirjallisuutta sekä T-paitoja yhdistyksen logo-painatuksella. Poikkea tutustumaan!
URL:https://raahenomaishoitajat.fi/event/toimisto-avoinna-90/
LOCATION:OmaisOivan toimisto\, Kauppakeskus Masto
ATTACH;FMTTYPE=image/png:https://raahenomaishoitajat.fi/content/uploads/2025/05/toimistokioski2025.png
END:VEVENT
BEGIN:VEVENT
DTSTART;TZID=Europe/Helsinki:20250610T130000
DTEND;TZID=Europe/Helsinki:20250610T143000
DTSTAMP:20260425T011525
CREATED:20250113T085806Z
LAST-MODIFIED:20250203T102429Z
UID:3978-1749560400-1749565800@raahenomaishoitajat.fi
SUMMARY:OmaisOivan kahvila Ruukissa (kotikahvila)
DESCRIPTION:Tule vaihtamaan kuulumisia ja saamaan hyvinvointiin liittyvää tietoa kahvikupposen äärelle Irma Pietarilan kotiin (Tölvääntie 54 Ruukki\, Tuomipojan tien varrella). Kokoonnumme tiistaisin 14.1.\, 18.2.\, 11.3.\, 15.4.\, 20.5. ja 10.6. klo 13 (muut ajankohdat vielä avoinna). Tervetuloa mukaan omaishoitajat ja läheiset sekä omaishoitajat\, joiden omaishoitotilanne on päättynyt!
URL:https://raahenomaishoitajat.fi/event/omaisoivan-kahvila-ruukissa-kotikahvila-6/
ATTACH;FMTTYPE=image/png:https://raahenomaishoitajat.fi/content/uploads/2025/02/paivitetty-28.1.2025.png
END:VEVENT
BEGIN:VEVENT
DTSTART;TZID=Europe/Helsinki:20250611T090000
DTEND;TZID=Europe/Helsinki:20250611T110000
DTSTAMP:20260425T011525
CREATED:20241220T082052Z
LAST-MODIFIED:20241220T082052Z
UID:3826-1749632400-1749639600@raahenomaishoitajat.fi
SUMMARY:Omaishoidon infopiste NeuvoRassissa
DESCRIPTION:Askarruttaako sinua jokin omaishoitoon liittyvä asia? Kaipaatko tietoa omaishoitoperheille suunnatusta toiminnasta ja etuuksista? Vai haluatko vaihtaa ajatuksia sinulle tärkeistä asioista? \nPiipahda juttusille Omaishoidon infopisteelle NeuvoRassiin (Kirkkokatu 28\, Raahe)\, jos kaipaat tietoa\, tukea tai vertaistoimintaa omaishoitopolullasi. Samalla kuulet millaista toimintaa järjestämme lähialueellasi\, sillä etsimme juuri sinua ja läheistäsi mukaan vertaisporukkaamme! \n  \nInfopisteet pääsääntöisesti kuukauden 1. keskiviikko klo 9-11 8.1.\, 5.2.\, 5.3.\, 2.4. sekä 14.6. ja 11.6. (poikkeusajat)
URL:https://raahenomaishoitajat.fi/event/omaishoidon-infopiste-neuvorassissa-15/
LOCATION:NeuvoRassi\, Kirkkokatu 28\, Raahe
ATTACH;FMTTYPE=image/png:https://raahenomaishoitajat.fi/content/uploads/2024/12/Neuvorassi-infopiste.png
END:VEVENT
BEGIN:VEVENT
DTSTART;TZID=Europe/Helsinki:20250616T090000
DTEND;TZID=Europe/Helsinki:20250616T130000
DTSTAMP:20260425T011525
CREATED:20250527T070310Z
LAST-MODIFIED:20250527T070310Z
UID:4082-1750064400-1750078800@raahenomaishoitajat.fi
SUMMARY:Toimisto avoinna
DESCRIPTION:OmaisOiva toimisto avoinna pääsääntöisesti maanantaisin klo 9-13 Kauppakeskus Mastossa 2.krs (Ollinkalliontie 3\, Raahe). OmaisOivan työntekijän tavoitat henkilökohtaisesti toimiston aukioloaikaan\, muulloin myös puhelimitse ja sähköpostitse. Voit varata henkilökohtaisen neuvonta/keskusteluajan sinulle sopivaan ajankohtaan. Ota rohkeasti yhteyttä\, jos kaipaat tietoa\, tukea tai kuuntelijaa! \nToimistolla myytävänä mm. suruadresseja\, omaishoitoon liittyvää kirjallisuutta sekä T-paitoja yhdistyksen logo-painatuksella. Poikkea tutustumaan!
URL:https://raahenomaishoitajat.fi/event/toimisto-avoinna-91/
LOCATION:OmaisOivan toimisto\, Kauppakeskus Masto
ATTACH;FMTTYPE=image/png:https://raahenomaishoitajat.fi/content/uploads/2025/05/toimistokioski2025.png
END:VEVENT
BEGIN:VEVENT
DTSTART;TZID=Europe/Helsinki:20250617T130000
DTEND;TZID=Europe/Helsinki:20250617T143000
DTSTAMP:20260425T011525
CREATED:20241220T090039Z
LAST-MODIFIED:20241220T090039Z
UID:3889-1750165200-1750170600@raahenomaishoitajat.fi
SUMMARY:OmaisOiva kahvila Vihannissa
DESCRIPTION:Kaikille avoimet\, maksuttomat päiväkahvit Kuusiratin kylätalolla (Nuupakantie 143 Vihanti). Kokoonnumme pääsääntöisesti tiistaisin\, aloitetaan kevätkausi torstaina 16.1.\, tiistaisin 4.2.\, 4.3.\, 8.4.\, 6.5. ja 17.6. \nTilaisuus on kaikille avoin riippumatta omaishoitotilanteesta. Tervetuloa mukaan vaikkapa ystäväsi tai naapurisi kanssa!
URL:https://raahenomaishoitajat.fi/event/omaisoiva-kahvila-vihannissa/
LOCATION:Kuusiratin kylätalo\, Nuupakantie 143\, Vihanti
ATTACH;FMTTYPE=image/png:https://raahenomaishoitajat.fi/content/uploads/2024/12/kuusirati-1.png
END:VEVENT
BEGIN:VEVENT
DTSTART;TZID=Europe/Helsinki:20250618T120000
DTEND;TZID=Europe/Helsinki:20250618T150000
DTSTAMP:20260425T011525
CREATED:20250331T090056Z
LAST-MODIFIED:20250331T090056Z
UID:4023-1750248000-1750258800@raahenomaishoitajat.fi
SUMMARY:Ohjelmalliset laidunkauden avajaiset
DESCRIPTION:Jo perinteeksi muodostuneet ohjelmalliset Laidunkauden avajaiset pidetään 18.6.2025 Nivalan NS:lla. Ennakkoilm.  10.6. mennessä Riitalle p. 044 551 6803 (linja-autokuljetus). \nOsallistumismaksu 5€/hlö. TERVETULOA!
URL:https://raahenomaishoitajat.fi/event/ohjelmalliset-laidunkauden-avajaiset/
LOCATION:Nivalan Nuorisoseura\, Olkkosentie 14\, Nivala
ATTACH;FMTTYPE=image/png:https://raahenomaishoitajat.fi/content/uploads/2025/03/LAIDUNKAUDEN-AVAJAISET2025.png
END:VEVENT
BEGIN:VEVENT
DTSTART;TZID=Europe/Helsinki:20250623T090000
DTEND;TZID=Europe/Helsinki:20250623T130000
DTSTAMP:20260425T011525
CREATED:20250527T070353Z
LAST-MODIFIED:20250527T070353Z
UID:4084-1750669200-1750683600@raahenomaishoitajat.fi
SUMMARY:Toimisto avoinna
DESCRIPTION:OmaisOiva toimisto avoinna pääsääntöisesti maanantaisin klo 9-13 Kauppakeskus Mastossa 2.krs (Ollinkalliontie 3\, Raahe). OmaisOivan työntekijän tavoitat henkilökohtaisesti toimiston aukioloaikaan\, muulloin myös puhelimitse ja sähköpostitse. Voit varata henkilökohtaisen neuvonta/keskusteluajan sinulle sopivaan ajankohtaan. Ota rohkeasti yhteyttä\, jos kaipaat tietoa\, tukea tai kuuntelijaa! \nToimistolla myytävänä mm. suruadresseja\, omaishoitoon liittyvää kirjallisuutta sekä T-paitoja yhdistyksen logo-painatuksella. Poikkea tutustumaan!
URL:https://raahenomaishoitajat.fi/event/toimisto-avoinna-92/
LOCATION:OmaisOivan toimisto\, Kauppakeskus Masto
ATTACH;FMTTYPE=image/png:https://raahenomaishoitajat.fi/content/uploads/2025/05/toimistokioski2025.png
END:VEVENT
BEGIN:VEVENT
DTSTART;TZID=Europe/Helsinki:20250624T170000
DTEND;TZID=Europe/Helsinki:20250624T183000
DTSTAMP:20260425T011525
CREATED:20241220T091042Z
LAST-MODIFIED:20241220T091042Z
UID:3907-1750784400-1750789800@raahenomaishoitajat.fi
SUMMARY:Erityislasten vanhempien ryhmä
DESCRIPTION:Onko perheessäsi erityistä tukea tarvitseva lapsi? Kaipaatko vertaistukea ja ajatusten vaihtoa muiden vanhempien kanssa? \nTule mukaan seutukunnalliseen erityislasten vanhempien ryhmään\, joka kokoontuu kuukauden viimeinen tiistai Raahen Psyyke ry:n Jäsentuvalla (Rantakatu 58\, Raahe). Kokoontumisajat ovat 28.1.\, 25.2.\, 25.3.\, 29.4.\, 27.5. ja 24.6. \nRyhmään osallistuminen ei edellytä lapsen diagnoosia\, omaishoidon tuen saantia tai yhdistysjäsenyyttä. Tervetuloa vertaisten joukkoon uudet ja entiset ryhmäläiset!
URL:https://raahenomaishoitajat.fi/event/erityislasten-vanhempien-ryhma-43/
ATTACH;FMTTYPE=image/png:https://raahenomaishoitajat.fi/content/uploads/2024/12/Nayttokuva-2024-12-17-082412.png
END:VEVENT
BEGIN:VEVENT
DTSTART;TZID=Europe/Helsinki:20250626T100000
DTEND;TZID=Europe/Helsinki:20250626T113000
DTSTAMP:20260425T011525
CREATED:20241220T092335Z
LAST-MODIFIED:20250514T095629Z
UID:3931-1750932000-1750937400@raahenomaishoitajat.fi
SUMMARY:Puheenjohtajan etäpäiväkahvit verkossa (HUOM! muuttunut päivä)
DESCRIPTION:Puheenjohtajan etäpäiväkahvit kuukauden viimeinen perjantai klo 10\, mutta kesäkuussa poikkeuksellisesti to 26.6. Tule jutustelemaan\, vaihtamaan kuulumisia\, tai vaikkapa jakamaan pieniä tarinoita yhdistyksemme puheenjohtaja Aarne Eskolan\, Riitan sekä muiden osallistujien kanssa. Osallistuaksesi tarvitset tietokoneen\, nettiyhteyden\, kameran sekä mikrofonin. Mukaan pääset ilmoittamalla sähköpostiosoitteesi Riitalle edelliseen päivään mennessä riitta.sipola@raahenomaishoitajat.fi tai p. 044 551 6803. \nSaat tarvittaessa henkilökohtaista opastusta tietokoneen sekä Teams-yhteyden käytössä. \nTavataan päiväkahvien merkeissä etänä!
URL:https://raahenomaishoitajat.fi/event/puheenjohtajan-etapaivakahvit-verkossa-6/
ATTACH;FMTTYPE=image/png:https://raahenomaishoitajat.fi/content/uploads/2024/12/puheenjohtajanetapaivakahvit.png
END:VEVENT
BEGIN:VEVENT
DTSTART;TZID=Europe/Helsinki:20250627T090000
DTEND;TZID=Europe/Helsinki:20250627T140000
DTSTAMP:20260425T011525
CREATED:20250602T115055Z
LAST-MODIFIED:20250602T115146Z
UID:4090-1751014800-1751032800@raahenomaishoitajat.fi
SUMMARY:OmaisOiva mukana Pekanpäivien markkinoilla Raahessa
DESCRIPTION:Omaishoidon infopiste ja toiminnan esittelyä Pekanpäivien kävelykatumarkkinoilla pe 27.6.2025 alk. klo 9 (Laivurinkatu\, Raahe). Tervetuloa tutustumaan! (säävaraus)
URL:https://raahenomaishoitajat.fi/event/omaisoiva-mukana-pekanpaivien-kavelymarkkinoilla-raahessa/
END:VEVENT
BEGIN:VEVENT
DTSTART;TZID=Europe/Helsinki:20250630T090000
DTEND;TZID=Europe/Helsinki:20250630T130000
DTSTAMP:20260425T011525
CREATED:20250527T070432Z
LAST-MODIFIED:20250527T070432Z
UID:4086-1751274000-1751288400@raahenomaishoitajat.fi
SUMMARY:Toimisto avoinna
DESCRIPTION:OmaisOiva toimisto avoinna pääsääntöisesti maanantaisin klo 9-13 Kauppakeskus Mastossa 2.krs (Ollinkalliontie 3\, Raahe). OmaisOivan työntekijän tavoitat henkilökohtaisesti toimiston aukioloaikaan\, muulloin myös puhelimitse ja sähköpostitse. Voit varata henkilökohtaisen neuvonta/keskusteluajan sinulle sopivaan ajankohtaan. Ota rohkeasti yhteyttä\, jos kaipaat tietoa\, tukea tai kuuntelijaa! \nToimistolla myytävänä mm. suruadresseja\, omaishoitoon liittyvää kirjallisuutta sekä T-paitoja yhdistyksen logo-painatuksella. Poikkea tutustumaan!
URL:https://raahenomaishoitajat.fi/event/toimisto-avoinna-93/
LOCATION:OmaisOivan toimisto\, Kauppakeskus Masto
ATTACH;FMTTYPE=image/png:https://raahenomaishoitajat.fi/content/uploads/2025/05/toimistokioski2025.png
END:VEVENT
END:VCALENDAR