BEGIN:VCALENDAR
VERSION:2.0
PRODID:-//Raahen seudun Omaishoitajat ja Läheiset ry - ECPv6.15.20//NONSGML v1.0//EN
CALSCALE:GREGORIAN
METHOD:PUBLISH
X-WR-CALNAME:Raahen seudun Omaishoitajat ja Läheiset ry
X-ORIGINAL-URL:https://raahenomaishoitajat.fi
X-WR-CALDESC:Events for Raahen seudun Omaishoitajat ja Läheiset ry
REFRESH-INTERVAL;VALUE=DURATION:PT1H
X-Robots-Tag:noindex
X-PUBLISHED-TTL:PT1H
BEGIN:VTIMEZONE
TZID:Europe/Helsinki
BEGIN:DAYLIGHT
TZOFFSETFROM:+0200
TZOFFSETTO:+0300
TZNAME:EEST
DTSTART:20240331T010000
END:DAYLIGHT
BEGIN:STANDARD
TZOFFSETFROM:+0300
TZOFFSETTO:+0200
TZNAME:EET
DTSTART:20241027T010000
END:STANDARD
BEGIN:DAYLIGHT
TZOFFSETFROM:+0200
TZOFFSETTO:+0300
TZNAME:EEST
DTSTART:20250330T010000
END:DAYLIGHT
BEGIN:STANDARD
TZOFFSETFROM:+0300
TZOFFSETTO:+0200
TZNAME:EET
DTSTART:20251026T010000
END:STANDARD
BEGIN:DAYLIGHT
TZOFFSETFROM:+0200
TZOFFSETTO:+0300
TZNAME:EEST
DTSTART:20260329T010000
END:DAYLIGHT
BEGIN:STANDARD
TZOFFSETFROM:+0300
TZOFFSETTO:+0200
TZNAME:EET
DTSTART:20261025T010000
END:STANDARD
END:VTIMEZONE
BEGIN:VEVENT
DTSTART;TZID=Europe/Helsinki:20250930T163000
DTEND;TZID=Europe/Helsinki:20250930T180000
DTSTAMP:20260425T065737
CREATED:20250709T100917Z
LAST-MODIFIED:20250930T092825Z
UID:4162-1759249800-1759255200@raahenomaishoitajat.fi
SUMMARY:Erityislasten vanhempien ryhmä Raahessa
DESCRIPTION:Onko perheessäsi erityistä tukea tarvitseva lapsi? Kaipaatko vertaistukea ja ajatusten vaihtoa muiden vanhempien kanssa? \nTule mukaan seutukunnalliseen erityislasten vanhempien ryhmään\, joka kokoontuu kuukauden viimeinen tiistai klo 16.30-n.18 (HUOM!aika) Raahen Psyyke ry:n Tuvalla (Rantakatu 58\, Raahe). Kokoontumisajat ovat 30.9.\, 28.10.\, 25.11. ja 16.12. (poikkeus). \nRyhmään osallistuminen ei edellytä lapsen diagnoosia\, omaishoidon tuen saantia tai yhdistysjäsenyyttä. Tervetuloa vertaisten joukkoon uudet ja entiset ryhmäläiset!
URL:https://raahenomaishoitajat.fi/event/erityislasten-vanhempien-ryhma-raahessa/
LOCATION:Raahen Psyyke ry\, Rantakatu 58\, Raahe
ATTACH;FMTTYPE=image/png:https://raahenomaishoitajat.fi/content/uploads/2025/07/syksy2025paivitetty.png
END:VEVENT
END:VCALENDAR