BEGIN:VCALENDAR
VERSION:2.0
PRODID:-//Raahen seudun Omaishoitajat ja Läheiset ry - ECPv6.15.20//NONSGML v1.0//EN
CALSCALE:GREGORIAN
METHOD:PUBLISH
X-WR-CALNAME:Raahen seudun Omaishoitajat ja Läheiset ry
X-ORIGINAL-URL:https://raahenomaishoitajat.fi
X-WR-CALDESC:Events for Raahen seudun Omaishoitajat ja Läheiset ry
REFRESH-INTERVAL;VALUE=DURATION:PT1H
X-Robots-Tag:noindex
X-PUBLISHED-TTL:PT1H
BEGIN:VTIMEZONE
TZID:Europe/Helsinki
BEGIN:DAYLIGHT
TZOFFSETFROM:+0200
TZOFFSETTO:+0300
TZNAME:EEST
DTSTART:20240331T010000
END:DAYLIGHT
BEGIN:STANDARD
TZOFFSETFROM:+0300
TZOFFSETTO:+0200
TZNAME:EET
DTSTART:20241027T010000
END:STANDARD
BEGIN:DAYLIGHT
TZOFFSETFROM:+0200
TZOFFSETTO:+0300
TZNAME:EEST
DTSTART:20250330T010000
END:DAYLIGHT
BEGIN:STANDARD
TZOFFSETFROM:+0300
TZOFFSETTO:+0200
TZNAME:EET
DTSTART:20251026T010000
END:STANDARD
BEGIN:DAYLIGHT
TZOFFSETFROM:+0200
TZOFFSETTO:+0300
TZNAME:EEST
DTSTART:20260329T010000
END:DAYLIGHT
BEGIN:STANDARD
TZOFFSETFROM:+0300
TZOFFSETTO:+0200
TZNAME:EET
DTSTART:20261025T010000
END:STANDARD
END:VTIMEZONE
BEGIN:VEVENT
DTSTART;TZID=Europe/Helsinki:20250926T100000
DTEND;TZID=Europe/Helsinki:20250926T113000
DTSTAMP:20260425T065736
CREATED:20250709T102154Z
LAST-MODIFIED:20250709T102154Z
UID:4174-1758880800-1758886200@raahenomaishoitajat.fi
SUMMARY:Puheenjohtajan etäpäiväkahvit verkossa
DESCRIPTION:Puheenjohtajan etäpäiväkahvit kuukauden viimeinen perjantai klo 10Teams-yhteydellä 29.8.\, 26.9.\, 31.10.\, 28.11. ja 12.12. (poikkeus). Tule jutustelemaan\, vaihtamaan kuulumisia\, tai vaikkapa jakamaan pieniä tarinoita yhdistyksemme puheenjohtaja Aarne Eskolan\, Riitan sekä muiden osallistujien kanssa. Osallistuaksesi tarvitset tietokoneen\, nettiyhteyden\, kameran sekä mikrofonin. Mukaan pääset ilmoittamalla sähköpostiosoitteesi Riitalle edelliseen päivään mennessä riitta.sipola@raahenomaishoitajat.fi tai p. 044 551 6803. \nSaat tarvittaessa henkilökohtaista opastusta tietokoneen sekä Teams-yhteyden käytössä. \nTavataan päiväkahvien merkeissä etänä!
URL:https://raahenomaishoitajat.fi/event/puheenjohtajan-etapaivakahvit-verkossa-8/
ATTACH;FMTTYPE=image/png:https://raahenomaishoitajat.fi/content/uploads/2025/07/syksy2025-1.png
END:VEVENT
END:VCALENDAR