BEGIN:VCALENDAR
VERSION:2.0
PRODID:-//Raahen seudun Omaishoitajat ja Läheiset ry - ECPv6.15.20//NONSGML v1.0//EN
CALSCALE:GREGORIAN
METHOD:PUBLISH
X-ORIGINAL-URL:https://raahenomaishoitajat.fi
X-WR-CALDESC:Events for Raahen seudun Omaishoitajat ja Läheiset ry
REFRESH-INTERVAL;VALUE=DURATION:PT1H
X-Robots-Tag:noindex
X-PUBLISHED-TTL:PT1H
BEGIN:VTIMEZONE
TZID:Europe/Helsinki
BEGIN:DAYLIGHT
TZOFFSETFROM:+0200
TZOFFSETTO:+0300
TZNAME:EEST
DTSTART:20240331T010000
END:DAYLIGHT
BEGIN:STANDARD
TZOFFSETFROM:+0300
TZOFFSETTO:+0200
TZNAME:EET
DTSTART:20241027T010000
END:STANDARD
BEGIN:DAYLIGHT
TZOFFSETFROM:+0200
TZOFFSETTO:+0300
TZNAME:EEST
DTSTART:20250330T010000
END:DAYLIGHT
BEGIN:STANDARD
TZOFFSETFROM:+0300
TZOFFSETTO:+0200
TZNAME:EET
DTSTART:20251026T010000
END:STANDARD
BEGIN:DAYLIGHT
TZOFFSETFROM:+0200
TZOFFSETTO:+0300
TZNAME:EEST
DTSTART:20260329T010000
END:DAYLIGHT
BEGIN:STANDARD
TZOFFSETFROM:+0300
TZOFFSETTO:+0200
TZNAME:EET
DTSTART:20261025T010000
END:STANDARD
END:VTIMEZONE
BEGIN:VEVENT
DTSTART;TZID=Europe/Helsinki:20250924T140000
DTEND;TZID=Europe/Helsinki:20250924T160000
DTSTAMP:20260425T065817
CREATED:20250829T061645Z
LAST-MODIFIED:20250922T104036Z
UID:4272-1758722400-1758729600@raahenomaishoitajat.fi
SUMMARY:Miesomaishoitajien ryhmä HUOM! aika
DESCRIPTION:Kaipaatko vertaistukea\, virkistystä ja ajatusten vaihtoa toisten mieshoivaajien kanssa? Onko omaishoitotilanteesi päättynyt? \nTule mukaan miesten ryhmään\, joka kokoontuu ke 24.9.\, 15.10.\, 5.11.\, 26.11. ja 17.12. klo 14-16 Raahen seudun Muistiyhdistyksen tiloissa. Ensimmäisellä kokoontumiskerralla liikuntatuokio ulkona\, voit ottaa mukaasi omat kävelysauvat. Ryhmä toteutetaan yhteistyössä Raahenseudun Ladun ja Raahen seudun Muistiyhdistyksen/Pohjois-Pohjanmaan Muistiluotsin kanssa.
URL:https://raahenomaishoitajat.fi/event/miesomaishoitajien-ryhma/
LOCATION:Rantakatu 7E Raahe\, Rantakatu 7E\, Raahe
ATTACH;FMTTYPE=image/png:https://raahenomaishoitajat.fi/content/uploads/2025/08/Nayttokuva-2025-09-22-133757.png
END:VEVENT
END:VCALENDAR