BEGIN:VCALENDAR
VERSION:2.0
PRODID:-//Raahen seudun Omaishoitajat ja Läheiset ry - ECPv6.15.20//NONSGML v1.0//EN
CALSCALE:GREGORIAN
METHOD:PUBLISH
X-WR-CALNAME:Raahen seudun Omaishoitajat ja Läheiset ry
X-ORIGINAL-URL:https://raahenomaishoitajat.fi
X-WR-CALDESC:Events for Raahen seudun Omaishoitajat ja Läheiset ry
REFRESH-INTERVAL;VALUE=DURATION:PT1H
X-Robots-Tag:noindex
X-PUBLISHED-TTL:PT1H
BEGIN:VTIMEZONE
TZID:Europe/Helsinki
BEGIN:DAYLIGHT
TZOFFSETFROM:+0200
TZOFFSETTO:+0300
TZNAME:EEST
DTSTART:20240331T010000
END:DAYLIGHT
BEGIN:STANDARD
TZOFFSETFROM:+0300
TZOFFSETTO:+0200
TZNAME:EET
DTSTART:20241027T010000
END:STANDARD
BEGIN:DAYLIGHT
TZOFFSETFROM:+0200
TZOFFSETTO:+0300
TZNAME:EEST
DTSTART:20250330T010000
END:DAYLIGHT
BEGIN:STANDARD
TZOFFSETFROM:+0300
TZOFFSETTO:+0200
TZNAME:EET
DTSTART:20251026T010000
END:STANDARD
BEGIN:DAYLIGHT
TZOFFSETFROM:+0200
TZOFFSETTO:+0300
TZNAME:EEST
DTSTART:20260329T010000
END:DAYLIGHT
BEGIN:STANDARD
TZOFFSETFROM:+0300
TZOFFSETTO:+0200
TZNAME:EET
DTSTART:20261025T010000
END:STANDARD
END:VTIMEZONE
BEGIN:VEVENT
DTSTART;TZID=Europe/Helsinki:20250922T090000
DTEND;TZID=Europe/Helsinki:20250922T130000
DTSTAMP:20260425T065736
CREATED:20250709T091516Z
LAST-MODIFIED:20250709T091516Z
UID:4108-1758531600-1758546000@raahenomaishoitajat.fi
SUMMARY:Toimisto avoinna
DESCRIPTION:OmaisOiva toimisto avoinna pääsääntöisesti maanantaisin klo 9-13 Kauppakeskus Mastossa 2.krs (Ollinkalliontie 3\, Raahe). OmaisOivan työntekijän tavoitat henkilökohtaisesti toimiston aukioloaikaan\, muulloin myös puhelimitse ja sähköpostitse. Voit varata henkilökohtaisen neuvonta/keskusteluajan sinulle sopivaan ajankohtaan. Ota rohkeasti yhteyttä\, jos kaipaat tietoa\, tukea tai kuuntelijaa! \nToimistolla myytävänä mm. suruadresseja\, omaishoitoon liittyvää kirjallisuutta sekä T-paitoja yhdistyksen logo-painatuksella. Poikkea tutustumaan!
URL:https://raahenomaishoitajat.fi/event/toimisto-avoinna-99/
LOCATION:OmaisOivan toimisto\, Kauppakeskus Masto
ATTACH;FMTTYPE=image/png:https://raahenomaishoitajat.fi/content/uploads/2025/07/toimistosyksy2025.png
END:VEVENT
BEGIN:VEVENT
DTSTART;TZID=Europe/Helsinki:20250922T130000
DTEND;TZID=Europe/Helsinki:20250922T143000
DTSTAMP:20260425T065736
CREATED:20250709T100224Z
LAST-MODIFIED:20250709T100224Z
UID:4153-1758546000-1758551400@raahenomaishoitajat.fi
SUMMARY:Omaishoitajien keskustelupiiri Raahessa
DESCRIPTION:Tervetuloa mukaan omaishoitajien keskustelupiiriin vaihtamaan ajatuksia kahvikupposen äärelle! \nKokoonnumme maanantaisin klo 12-13.30 Raahen seurakuntakeskuksen Brahe-kokoustilassa (Sovionkatu 1\, Raahe)\, kokoontumisajat 22.9.\, 20.10.\, 3.11. ja 15.12. \nTervetuloa vertaisten joukkoon uudet ja entiset ryhmäläiset sekä omaishoitajat\, joiden omaishoitotilanne on päättynyt! \nRyhmätoiminta järjestetään yhteistyössä Raahen seurakunnan kanssa\, ohjaajana diakoni Jenni Ranta.
URL:https://raahenomaishoitajat.fi/event/omaishoitajien-keskustelupiiri-raahessa-7/
LOCATION:Raahen seurakuntakeskus\, Sovionkatu 1\, Raahe
ATTACH;FMTTYPE=image/png:https://raahenomaishoitajat.fi/content/uploads/2025/07/keskustelupiirisyksy2025.png
END:VEVENT
END:VCALENDAR