BEGIN:VCALENDAR
VERSION:2.0
PRODID:-//Raahen seudun Omaishoitajat ja Läheiset ry - ECPv6.15.20//NONSGML v1.0//EN
CALSCALE:GREGORIAN
METHOD:PUBLISH
X-ORIGINAL-URL:https://raahenomaishoitajat.fi
X-WR-CALDESC:Events for Raahen seudun Omaishoitajat ja Läheiset ry
REFRESH-INTERVAL;VALUE=DURATION:PT1H
X-Robots-Tag:noindex
X-PUBLISHED-TTL:PT1H
BEGIN:VTIMEZONE
TZID:Europe/Helsinki
BEGIN:DAYLIGHT
TZOFFSETFROM:+0200
TZOFFSETTO:+0300
TZNAME:EEST
DTSTART:20240331T010000
END:DAYLIGHT
BEGIN:STANDARD
TZOFFSETFROM:+0300
TZOFFSETTO:+0200
TZNAME:EET
DTSTART:20241027T010000
END:STANDARD
BEGIN:DAYLIGHT
TZOFFSETFROM:+0200
TZOFFSETTO:+0300
TZNAME:EEST
DTSTART:20250330T010000
END:DAYLIGHT
BEGIN:STANDARD
TZOFFSETFROM:+0300
TZOFFSETTO:+0200
TZNAME:EET
DTSTART:20251026T010000
END:STANDARD
BEGIN:DAYLIGHT
TZOFFSETFROM:+0200
TZOFFSETTO:+0300
TZNAME:EEST
DTSTART:20260329T010000
END:DAYLIGHT
BEGIN:STANDARD
TZOFFSETFROM:+0300
TZOFFSETTO:+0200
TZNAME:EET
DTSTART:20261025T010000
END:STANDARD
END:VTIMEZONE
BEGIN:VEVENT
DTSTART;TZID=Europe/Helsinki:20250911T170000
DTEND;TZID=Europe/Helsinki:20250911T180000
DTSTAMP:20260425T065817
CREATED:20250709T114913Z
LAST-MODIFIED:20250821T052301Z
UID:4218-1757610000-1757613600@raahenomaishoitajat.fi
SUMMARY:Hyvinvointiwebinaarin etäkatsomo
DESCRIPTION:Tule seuraamaan paikan päälle OmaisOivan toimistolle Omaishoitajaliitto ry:n järjestämiä hyvinvointiin liittyviä asiantuntijavetoisia webinaareja klo 17-18 \nto 11.9. aiheena Kun hoivavastuu muuttuu -näkökulmia omaishoitajille luopumisesta ja sopeutumisesta\, asiantuntijana Tuija Kotiranta Omaisena edelleen ry:stä \nto 2.10.Keho ja mieli yhteistyössä – tukea omaishoitajan arkeen kehotietoisuudesta\, asiantuntijana psykologi\, tanssi-liiketerapeutti Päivi Pylvänäinen \nTo 13.11. klo 16-18 Kuinka lakia luetaan -seminaari \nTo 6.11.  Vaiettu viha – miten käytän sitä voimanani? asiantuntijana perhepsykoterapeutti\, pari- ja seksuaaliterapeutti Heli Pruuki \nTo 11.12.  Seksuaalisuus omaishoitajan voimavarana\, asiantuntijana erityistason seksuaaliterapeutti ja työnohjaaja Henna Suikki \nTilaisuudet ovat kaikille avoimia\, tervetuloa! Tulethan paikalle jo klo 16.45. Lisätietoa Riitalta p. 044 551 6803 \nVoit myös seurata tilaisuuksia myös omalta tietokoneeltasi\, saat sähköpostiisi osallistumislinkin ennakkoilmoittautumalla Omaishoitajaliittoon 2 päivää ennen tilaisuutta www.omaishoitajat.fi/tapahtuma. \n 
URL:https://raahenomaishoitajat.fi/event/hyvinvointiwebinaarin-etakatsomo-5/
LOCATION:OmaisOivan toimisto\, Kauppakeskus Masto
ATTACH;FMTTYPE=image/png:https://raahenomaishoitajat.fi/content/uploads/2025/07/hyvinvointiwebinaaritsyksy2025.png
END:VEVENT
END:VCALENDAR