BEGIN:VCALENDAR
VERSION:2.0
PRODID:-//Raahen seudun Omaishoitajat ja Läheiset ry - ECPv6.15.20//NONSGML v1.0//EN
CALSCALE:GREGORIAN
METHOD:PUBLISH
X-ORIGINAL-URL:https://raahenomaishoitajat.fi
X-WR-CALDESC:Events for Raahen seudun Omaishoitajat ja Läheiset ry
REFRESH-INTERVAL;VALUE=DURATION:PT1H
X-Robots-Tag:noindex
X-PUBLISHED-TTL:PT1H
BEGIN:VTIMEZONE
TZID:Europe/Helsinki
BEGIN:DAYLIGHT
TZOFFSETFROM:+0200
TZOFFSETTO:+0300
TZNAME:EEST
DTSTART:20240331T010000
END:DAYLIGHT
BEGIN:STANDARD
TZOFFSETFROM:+0300
TZOFFSETTO:+0200
TZNAME:EET
DTSTART:20241027T010000
END:STANDARD
BEGIN:DAYLIGHT
TZOFFSETFROM:+0200
TZOFFSETTO:+0300
TZNAME:EEST
DTSTART:20250330T010000
END:DAYLIGHT
BEGIN:STANDARD
TZOFFSETFROM:+0300
TZOFFSETTO:+0200
TZNAME:EET
DTSTART:20251026T010000
END:STANDARD
BEGIN:DAYLIGHT
TZOFFSETFROM:+0200
TZOFFSETTO:+0300
TZNAME:EEST
DTSTART:20260329T010000
END:DAYLIGHT
BEGIN:STANDARD
TZOFFSETFROM:+0300
TZOFFSETTO:+0200
TZNAME:EET
DTSTART:20261025T010000
END:STANDARD
END:VTIMEZONE
BEGIN:VEVENT
DTSTART;TZID=Europe/Helsinki:20250903T100000
DTEND;TZID=Europe/Helsinki:20250903T113000
DTSTAMP:20260425T065817
CREATED:20250819T115552Z
LAST-MODIFIED:20250819T115552Z
UID:4232-1756893600-1756899000@raahenomaishoitajat.fi
SUMMARY:Omaishoidon infopiste Praatissa Raahessa
DESCRIPTION:Askarruttaako jokin omaishoitoon liittyvä asia? Kaipaatko tietoa omaishoitoperheille suunnatuista toiminnoista ja etuuksista? Vai haluatko vaihtaa ajatuksia sinulle tärkeistä asioista? \nTule juttusille Omaishoidon infopisteelle Praatiin -palvelujen olohuoneeseen ke klo 10-11.30 (Kirkkokatu 43\, Raahe)\, paikalla OmaisOivan työntekijä. Infopiste Praatissa pääsääntöisesti kuukauden 1. keskiviikko (poikkeus 12.11.). Tervetuloa!
URL:https://raahenomaishoitajat.fi/event/omaishoidon-infopiste-praatissa-raahessa/
LOCATION:Praati\, Kirkkokatu 43\, Raahe\, 92100\, Finland
ATTACH;FMTTYPE=image/png:https://raahenomaishoitajat.fi/content/uploads/2025/08/Praati-syksy2025.png
END:VEVENT
BEGIN:VEVENT
DTSTART;TZID=Europe/Helsinki:20250903T130000
DTEND;TZID=Europe/Helsinki:20250903T143000
DTSTAMP:20260425T065817
CREATED:20250709T103718Z
LAST-MODIFIED:20250709T103718Z
UID:4182-1756904400-1756909800@raahenomaishoitajat.fi
SUMMARY:OmaisOiva kahvila Siikajoenkylällä
DESCRIPTION:Tervetuloa yhteiseen päiväkahvitilaisuuteen Heikinhovin kylätalolle! \nKokoonnumme ke 3.9.\, 1.10.\, 12.11. ja 10.12. klo 13-14.30 (Heikintie 1\, Siikajoenkylä). \nTilaisuus on kaikille avoin riippumatta omaishoitotilanteesta. Tule mukaan vaikkapa ystäväsi tai naapurisi kanssa!
URL:https://raahenomaishoitajat.fi/event/omaisoiva-kahvila-siikajoenkylalla/
LOCATION:Heikinhovi\, Heikintie 1\, Siikajoki
ATTACH;FMTTYPE=image/png:https://raahenomaishoitajat.fi/content/uploads/2025/07/heikinhovisyksy2025.png
END:VEVENT
END:VCALENDAR