BEGIN:VCALENDAR
VERSION:2.0
PRODID:-//Raahen seudun Omaishoitajat ja Läheiset ry - ECPv6.15.20//NONSGML v1.0//EN
CALSCALE:GREGORIAN
METHOD:PUBLISH
X-ORIGINAL-URL:https://raahenomaishoitajat.fi
X-WR-CALDESC:Events for Raahen seudun Omaishoitajat ja Läheiset ry
REFRESH-INTERVAL;VALUE=DURATION:PT1H
X-Robots-Tag:noindex
X-PUBLISHED-TTL:PT1H
BEGIN:VTIMEZONE
TZID:Europe/Helsinki
BEGIN:DAYLIGHT
TZOFFSETFROM:+0200
TZOFFSETTO:+0300
TZNAME:EEST
DTSTART:20240331T010000
END:DAYLIGHT
BEGIN:STANDARD
TZOFFSETFROM:+0300
TZOFFSETTO:+0200
TZNAME:EET
DTSTART:20241027T010000
END:STANDARD
BEGIN:DAYLIGHT
TZOFFSETFROM:+0200
TZOFFSETTO:+0300
TZNAME:EEST
DTSTART:20250330T010000
END:DAYLIGHT
BEGIN:STANDARD
TZOFFSETFROM:+0300
TZOFFSETTO:+0200
TZNAME:EET
DTSTART:20251026T010000
END:STANDARD
BEGIN:DAYLIGHT
TZOFFSETFROM:+0200
TZOFFSETTO:+0300
TZNAME:EEST
DTSTART:20260329T010000
END:DAYLIGHT
BEGIN:STANDARD
TZOFFSETFROM:+0300
TZOFFSETTO:+0200
TZNAME:EET
DTSTART:20261025T010000
END:STANDARD
END:VTIMEZONE
BEGIN:VEVENT
DTSTART;TZID=Europe/Helsinki:20250715T130000
DTEND;TZID=Europe/Helsinki:20250715T143000
DTSTAMP:20260425T035023
CREATED:20250707T085700Z
LAST-MODIFIED:20250707T085700Z
UID:4095-1752584400-1752589800@raahenomaishoitajat.fi
SUMMARY:Päiväkahvit ja makkaranpaistoa Vihannissa
DESCRIPTION:Päiväkahvit ja makkaranpaistoa  ti 15.7.2025 klo 13 (HUOM! lisäys) Läntisrannan virkistysalueella (Läntisrannantie 92\, Vihanti). Tervetuloa viihtymään!
URL:https://raahenomaishoitajat.fi/event/paivakahvit-ja-makkaranpaistoa-vihannissa-2/
LOCATION:Läntisrannantie 92 Vihanti
ATTACH;FMTTYPE=image/png:https://raahenomaishoitajat.fi/content/uploads/2025/07/Nayttokuva-2025-07-07-115536.png
END:VEVENT
END:VCALENDAR