BEGIN:VCALENDAR
VERSION:2.0
PRODID:-//Raahen seudun Omaishoitajat ja Läheiset ry - ECPv6.15.20//NONSGML v1.0//EN
CALSCALE:GREGORIAN
METHOD:PUBLISH
X-ORIGINAL-URL:https://raahenomaishoitajat.fi
X-WR-CALDESC:Events for Raahen seudun Omaishoitajat ja Läheiset ry
REFRESH-INTERVAL;VALUE=DURATION:PT1H
X-Robots-Tag:noindex
X-PUBLISHED-TTL:PT1H
BEGIN:VTIMEZONE
TZID:Europe/Helsinki
BEGIN:DAYLIGHT
TZOFFSETFROM:+0200
TZOFFSETTO:+0300
TZNAME:EEST
DTSTART:20240331T010000
END:DAYLIGHT
BEGIN:STANDARD
TZOFFSETFROM:+0300
TZOFFSETTO:+0200
TZNAME:EET
DTSTART:20241027T010000
END:STANDARD
BEGIN:DAYLIGHT
TZOFFSETFROM:+0200
TZOFFSETTO:+0300
TZNAME:EEST
DTSTART:20250330T010000
END:DAYLIGHT
BEGIN:STANDARD
TZOFFSETFROM:+0300
TZOFFSETTO:+0200
TZNAME:EET
DTSTART:20251026T010000
END:STANDARD
BEGIN:DAYLIGHT
TZOFFSETFROM:+0200
TZOFFSETTO:+0300
TZNAME:EEST
DTSTART:20260329T010000
END:DAYLIGHT
BEGIN:STANDARD
TZOFFSETFROM:+0300
TZOFFSETTO:+0200
TZNAME:EET
DTSTART:20261025T010000
END:STANDARD
END:VTIMEZONE
BEGIN:VEVENT
DTSTART;TZID=Europe/Helsinki:20250513T170000
DTEND;TZID=Europe/Helsinki:20250513T180000
DTSTAMP:20260425T011426
CREATED:20241220T091749Z
LAST-MODIFIED:20241220T091749Z
UID:3918-1747155600-1747159200@raahenomaishoitajat.fi
SUMMARY:Hyvinvointiwebinaarin etäkatsomo OmaisOivan toimistolla
DESCRIPTION:Tule seuraamaan paikan päälle OmaisOivan toimistolle Omaishoitajaliitto ry:n järjestämiä hyvinvointiin liittyviä asiantuntijavetoisia webinaareja klo 17-18 \nto 6.2. aiheena Katkeruuden selättäminen \nto 6.3. aiheena Kielletyt ja sallitut tunteet \nto 13.3. klo 16-18 Kuinka lakia luetaan seminaari\, aiheena Omaishoitoperheen talous -huolet ja mahdollisuudet \nti 8.4. aiheena Myönteisyyden voima \nti 13.5. aiheena Ergonomia avustamistilanteissa \nVoit myös seurata tilaisuuksia myös omalta tietokoneeltasi\, saat sähköpostiisi osallistumislinkin ennakkoilmoittautumalla Omaishoitajaliittoon. Ennakkoilm. ajankohdat löydät www.omaishoitajat.fi/tapahtumat ja koulutukset. \nWebinaarit ovat kaikille avoimia\, tulethan OmaisOivan toimistolle hyvissä ajoin ennen tilaisuuden alkua. Lisätietoa saat Riitalta p. 044 551 6803
URL:https://raahenomaishoitajat.fi/event/hyvinvointiwebinaarin-etakatsomo-omaisoivan-toimistolla-8/
LOCATION:OmaisOivan toimisto\, Kauppakeskus Masto
ATTACH;FMTTYPE=image/png:https://raahenomaishoitajat.fi/content/uploads/2024/12/Nayttokuva-2024-12-17-081721.png
END:VEVENT
END:VCALENDAR