BEGIN:VCALENDAR
VERSION:2.0
PRODID:-//Raahen seudun Omaishoitajat ja Läheiset ry - ECPv6.15.20//NONSGML v1.0//EN
CALSCALE:GREGORIAN
METHOD:PUBLISH
X-ORIGINAL-URL:https://raahenomaishoitajat.fi
X-WR-CALDESC:Events for Raahen seudun Omaishoitajat ja Läheiset ry
REFRESH-INTERVAL;VALUE=DURATION:PT1H
X-Robots-Tag:noindex
X-PUBLISHED-TTL:PT1H
BEGIN:VTIMEZONE
TZID:Europe/Helsinki
BEGIN:DAYLIGHT
TZOFFSETFROM:+0200
TZOFFSETTO:+0300
TZNAME:EEST
DTSTART:20240331T010000
END:DAYLIGHT
BEGIN:STANDARD
TZOFFSETFROM:+0300
TZOFFSETTO:+0200
TZNAME:EET
DTSTART:20241027T010000
END:STANDARD
BEGIN:DAYLIGHT
TZOFFSETFROM:+0200
TZOFFSETTO:+0300
TZNAME:EEST
DTSTART:20250330T010000
END:DAYLIGHT
BEGIN:STANDARD
TZOFFSETFROM:+0300
TZOFFSETTO:+0200
TZNAME:EET
DTSTART:20251026T010000
END:STANDARD
BEGIN:DAYLIGHT
TZOFFSETFROM:+0200
TZOFFSETTO:+0300
TZNAME:EEST
DTSTART:20260329T010000
END:DAYLIGHT
BEGIN:STANDARD
TZOFFSETFROM:+0300
TZOFFSETTO:+0200
TZNAME:EET
DTSTART:20261025T010000
END:STANDARD
END:VTIMEZONE
BEGIN:VEVENT
DTSTART;VALUE=DATE:20250418
DTEND;VALUE=DATE:20250429
DTSTAMP:20260424T234931
CREATED:20241220T080038Z
LAST-MODIFIED:20241220T080038Z
UID:3803-1744934400-1745884799@raahenomaishoitajat.fi
SUMMARY:Toimisto suljettu ja työntekijä lomalla
DESCRIPTION:
URL:https://raahenomaishoitajat.fi/event/toimisto-suljettu-ja-tyontekija-lomalla-4/
LOCATION:OmaisOivan toimisto\, Kauppakeskus Masto
END:VEVENT
END:VCALENDAR