BEGIN:VCALENDAR
VERSION:2.0
PRODID:-//Raahen seudun Omaishoitajat ja Läheiset ry - ECPv6.15.20//NONSGML v1.0//EN
CALSCALE:GREGORIAN
METHOD:PUBLISH
X-ORIGINAL-URL:https://raahenomaishoitajat.fi
X-WR-CALDESC:Events for Raahen seudun Omaishoitajat ja Läheiset ry
REFRESH-INTERVAL;VALUE=DURATION:PT1H
X-Robots-Tag:noindex
X-PUBLISHED-TTL:PT1H
BEGIN:VTIMEZONE
TZID:Europe/Helsinki
BEGIN:DAYLIGHT
TZOFFSETFROM:+0200
TZOFFSETTO:+0300
TZNAME:EEST
DTSTART:20240331T010000
END:DAYLIGHT
BEGIN:STANDARD
TZOFFSETFROM:+0300
TZOFFSETTO:+0200
TZNAME:EET
DTSTART:20241027T010000
END:STANDARD
BEGIN:DAYLIGHT
TZOFFSETFROM:+0200
TZOFFSETTO:+0300
TZNAME:EEST
DTSTART:20250330T010000
END:DAYLIGHT
BEGIN:STANDARD
TZOFFSETFROM:+0300
TZOFFSETTO:+0200
TZNAME:EET
DTSTART:20251026T010000
END:STANDARD
BEGIN:DAYLIGHT
TZOFFSETFROM:+0200
TZOFFSETTO:+0300
TZNAME:EEST
DTSTART:20260329T010000
END:DAYLIGHT
BEGIN:STANDARD
TZOFFSETFROM:+0300
TZOFFSETTO:+0200
TZNAME:EET
DTSTART:20261025T010000
END:STANDARD
END:VTIMEZONE
BEGIN:VEVENT
DTSTART;TZID=Europe/Helsinki:20250415T130000
DTEND;TZID=Europe/Helsinki:20250415T143000
DTSTAMP:20260424T235024
CREATED:20250113T085635Z
LAST-MODIFIED:20250203T102520Z
UID:3974-1744722000-1744727400@raahenomaishoitajat.fi
SUMMARY:OmaisOivan kahvila Ruukissa (kotikahvila)
DESCRIPTION:Tule vaihtamaan kuulumisia ja saamaan hyvinvointiin liittyvää tietoa kahvikupposen äärelle Irma Pietarilan kotiin (Tölvääntie 54 Ruukki\, Tuomipojan tien varrella). Kokoonnumme tiistaisin 14.1.\, 18.2.\, 11.3.\, 15.4.\, 20.5. ja 10.6. klo 13 (muut ajankohdat vielä avoinna). Tervetuloa mukaan omaishoitajat ja läheiset sekä omaishoitajat\, joiden omaishoitotilanne on päättynyt!
URL:https://raahenomaishoitajat.fi/event/omaisoivan-kahvila-ruukissa-kotikahvila-4/
ATTACH;FMTTYPE=image/png:https://raahenomaishoitajat.fi/content/uploads/2025/02/paivitetty-28.1.2025.png
END:VEVENT
END:VCALENDAR