BEGIN:VCALENDAR
VERSION:2.0
PRODID:-//Raahen seudun Omaishoitajat ja Läheiset ry - ECPv6.15.20//NONSGML v1.0//EN
CALSCALE:GREGORIAN
METHOD:PUBLISH
X-WR-CALNAME:Raahen seudun Omaishoitajat ja Läheiset ry
X-ORIGINAL-URL:https://raahenomaishoitajat.fi
X-WR-CALDESC:Events for Raahen seudun Omaishoitajat ja Läheiset ry
REFRESH-INTERVAL;VALUE=DURATION:PT1H
X-Robots-Tag:noindex
X-PUBLISHED-TTL:PT1H
BEGIN:VTIMEZONE
TZID:Europe/Helsinki
BEGIN:DAYLIGHT
TZOFFSETFROM:+0200
TZOFFSETTO:+0300
TZNAME:EEST
DTSTART:20240331T010000
END:DAYLIGHT
BEGIN:STANDARD
TZOFFSETFROM:+0300
TZOFFSETTO:+0200
TZNAME:EET
DTSTART:20241027T010000
END:STANDARD
BEGIN:DAYLIGHT
TZOFFSETFROM:+0200
TZOFFSETTO:+0300
TZNAME:EEST
DTSTART:20250330T010000
END:DAYLIGHT
BEGIN:STANDARD
TZOFFSETFROM:+0300
TZOFFSETTO:+0200
TZNAME:EET
DTSTART:20251026T010000
END:STANDARD
BEGIN:DAYLIGHT
TZOFFSETFROM:+0200
TZOFFSETTO:+0300
TZNAME:EEST
DTSTART:20260329T010000
END:DAYLIGHT
BEGIN:STANDARD
TZOFFSETFROM:+0300
TZOFFSETTO:+0200
TZNAME:EET
DTSTART:20261025T010000
END:STANDARD
END:VTIMEZONE
BEGIN:VEVENT
DTSTART;TZID=Europe/Helsinki:20250127T090000
DTEND;TZID=Europe/Helsinki:20250127T120000
DTSTAMP:20260424T234233
CREATED:20241220T074922Z
LAST-MODIFIED:20241220T074922Z
UID:3779-1737968400-1737979200@raahenomaishoitajat.fi
SUMMARY:Toimisto avoinna
DESCRIPTION:OmaisOiva toimisto avoinna pääsääntöisesti maanantaisin klo 9-13  (poikkeus 27.1. klo 9-12) Kauppakeskus Mastossa 2.krs (Ollinkalliontie 3\, Raahe). OmaisOivan työntekijän tavoitat henkilökohtaisesti toimiston aukioloaikaan\, muulloin myös puhelimitse ja sähköpostitse. Voit varata henkilökohtaisen neuvonta/keskusteluajan sinulle sopivaan ajankohtaan. Ota rohkeasti yhteyttä\, jos kaipaat tietoa\, tukea tai kuuntelijaa! \nToimistolla myytävänä mm. suruadresseja\, omaishoitoon liittyvää kirjallisuutta sekä T-paitoja yhdistyksen logo-painatuksella. Poikkea tutustumaan!
URL:https://raahenomaishoitajat.fi/event/toimisto-avoinna-73/
LOCATION:OmaisOivan toimisto\, Kauppakeskus Masto
ATTACH;FMTTYPE=image/png:https://raahenomaishoitajat.fi/content/uploads/2024/12/Nayttokuva-2024-12-20-073739.png
END:VEVENT
BEGIN:VEVENT
DTSTART;TZID=Europe/Helsinki:20250127T120000
DTEND;TZID=Europe/Helsinki:20250127T133000
DTSTAMP:20260424T234233
CREATED:20241220T083944Z
LAST-MODIFIED:20241220T083944Z
UID:3850-1737979200-1737984600@raahenomaishoitajat.fi
SUMMARY:Omaishoitajien keskustelupiiri Raahessa
DESCRIPTION:Tervetuloa mukaan omaishoitajien keskustelupiiriin vaihtamaan ajatuksia kahvikupposen äärelle! \nKokoonnumme kuukauden viimeinen maanantai klo 12-13.30 Raahen seurakuntakeskuksen Brahe-kokoustilassa (Sovionkatu 1\, Raahe) 27.1.\, 24.2.\, 31.3.\, 28.4. ja 26.5. \nTervetuloa vertaisten joukkoon uudet ja entiset ryhmäläiset sekä omaishoitajat\, joiden omaishoitotilanne on päättynyt! \nRyhmätoiminta järjestetään yhteistyössä Raahen seurakunnan kanssa\, ohjaajana diakoni Jenni Ranta.
URL:https://raahenomaishoitajat.fi/event/omaishoitajien-keskustelupiiri-raahessa/
LOCATION:Raahen seurakuntaeskus\, Sovionkatu 1\, Raahe
ATTACH;FMTTYPE=image/png:https://raahenomaishoitajat.fi/content/uploads/2024/12/keskustelupiiri.png
END:VEVENT
BEGIN:VEVENT
DTSTART;TZID=Europe/Helsinki:20250127T130000
DTEND;TZID=Europe/Helsinki:20250127T143000
DTSTAMP:20260424T234233
CREATED:20241220T083030Z
LAST-MODIFIED:20241220T083030Z
UID:3839-1737982800-1737988200@raahenomaishoitajat.fi
SUMMARY:Pyhäjoen omaishoitajien Pisara-ryhmä
DESCRIPTION:Tule mukaan omaishoitajien Pisara-ryhmään vaihtamaan ajatuksia kahvikupposen äärelle! \nTervetulleita vertaisten joukkoon uudet ja entiset ryhmäläiset sekä omaishoitajat\, joiden omaishoitotilanne on päättynyt. Voit tulla mukaan myös yhdessä läheisesi kanssa. \nKokoonnumme kuukauden viimeinen maanantai klo 13-14.30 Sarpatissa (Vanhatie 27\, Pyhäjoki) 27.1.\, 24.2.\, 31.3.\, 28.4. ja 26.5. \nRyhmä toteutetaan yhteistyössä Pyhäjoen seurakunnan kanssa.
URL:https://raahenomaishoitajat.fi/event/pyhajoen-omaishoitajien-pisara-ryhma-9/
LOCATION:Sarpatti\, Vanhatie 27\, Pyhäjoki\, Suomi
ATTACH;FMTTYPE=image/png:https://raahenomaishoitajat.fi/content/uploads/2024/12/Nayttokuva-2024-12-17-084104.png
END:VEVENT
END:VCALENDAR