BEGIN:VCALENDAR
VERSION:2.0
PRODID:-//Raahen seudun Omaishoitajat ja Läheiset ry - ECPv6.15.20//NONSGML v1.0//EN
CALSCALE:GREGORIAN
METHOD:PUBLISH
X-ORIGINAL-URL:https://raahenomaishoitajat.fi
X-WR-CALDESC:Events for Raahen seudun Omaishoitajat ja Läheiset ry
REFRESH-INTERVAL;VALUE=DURATION:PT1H
X-Robots-Tag:noindex
X-PUBLISHED-TTL:PT1H
BEGIN:VTIMEZONE
TZID:Europe/Helsinki
BEGIN:DAYLIGHT
TZOFFSETFROM:+0200
TZOFFSETTO:+0300
TZNAME:EEST
DTSTART:20240331T010000
END:DAYLIGHT
BEGIN:STANDARD
TZOFFSETFROM:+0300
TZOFFSETTO:+0200
TZNAME:EET
DTSTART:20241027T010000
END:STANDARD
BEGIN:DAYLIGHT
TZOFFSETFROM:+0200
TZOFFSETTO:+0300
TZNAME:EEST
DTSTART:20250330T010000
END:DAYLIGHT
BEGIN:STANDARD
TZOFFSETFROM:+0300
TZOFFSETTO:+0200
TZNAME:EET
DTSTART:20251026T010000
END:STANDARD
BEGIN:DAYLIGHT
TZOFFSETFROM:+0200
TZOFFSETTO:+0300
TZNAME:EEST
DTSTART:20260329T010000
END:DAYLIGHT
BEGIN:STANDARD
TZOFFSETFROM:+0300
TZOFFSETTO:+0200
TZNAME:EET
DTSTART:20261025T010000
END:STANDARD
END:VTIMEZONE
BEGIN:VEVENT
DTSTART;TZID=Europe/Helsinki:20250116T110000
DTEND;TZID=Europe/Helsinki:20250116T123000
DTSTAMP:20260425T010822
CREATED:20241220T095820Z
LAST-MODIFIED:20241220T095820Z
UID:3936-1737025200-1737030600@raahenomaishoitajat.fi
SUMMARY:Kuntoilua ja vertaistukea
DESCRIPTION:Tervetuloa kuntoilemaan omaishoitajien ja läheisten yhteiselle kuntosalivuorolle Kuntokeskus Kunnon Paikkaan (Tammitie 16\, Vihanti)! Et tarvitse aiempaa kuntosalikokemusta\, osallistumiseen riittää pelkkä halu osallistua ja tavata toisia. Paikalla on aina vastuuhenkilö\, joka opastaa sinua tarvittaessa. \nKokoonnumme torstaisin klo 11-12.30.  \nRyhmään ovat tervetulleita myös omaishoitajat\, joiden omaishoitopolku on päättynyt. \nPieni omavastuumaksu (2\,00€/kerta maksetaan paikan päällä).
URL:https://raahenomaishoitajat.fi/event/kuntoilua-ja-vertaistukea-2/
LOCATION:kuntokskus Kunnon Paikka\, Tammitie 17\, Vihanti
ATTACH;FMTTYPE=image/png:https://raahenomaishoitajat.fi/content/uploads/2024/12/kunnonpaikka2025.png
END:VEVENT
BEGIN:VEVENT
DTSTART;TZID=Europe/Helsinki:20250116T130000
DTEND;TZID=Europe/Helsinki:20250116T143000
DTSTAMP:20260425T010822
CREATED:20241220T085507Z
LAST-MODIFIED:20241220T090129Z
UID:3877-1737032400-1737037800@raahenomaishoitajat.fi
SUMMARY:OmaisOivan kahvila Vihannissa
DESCRIPTION:Kaikille avoimet\, maksuttomat päiväkahvit Kuusiratin kylätalolla (Nuupakantie 143 Vihanti). Kokoonnumme pääsääntöisesti tiistaisin\, aloitetaan kevätkausi torstaina 16.1.\, tiistaisin 4.2.\, 4.3.\, 8.4.\, 6.5. ja 17.6. \nTilaisuus on kaikille avoin riippumatta omaishoitotilanteesta. Tervetuloa mukaan vaikkapa ystäväsi tai naapurisi kanssa!
URL:https://raahenomaishoitajat.fi/event/omaisoivan-kahvila-kuusiratin-kylatalolla-vihannissa/
LOCATION:Kuusiratin kylätalo\, Nuupakantie 143\, Vihanti
ATTACH;FMTTYPE=image/png:https://raahenomaishoitajat.fi/content/uploads/2024/12/kuusirati.png
END:VEVENT
END:VCALENDAR